BEGIN:VCALENDAR
VERSION:2.0
PRODID:-//Centre d&#039;Estudis Politècnics - ECPv6.3.3.1//NONSGML v1.0//EN
CALSCALE:GREGORIAN
METHOD:PUBLISH
X-WR-CALNAME:Centre d&#039;Estudis Politècnics
X-ORIGINAL-URL:https://politecnics.barcelona
X-WR-CALDESC:Esdeveniments per Centre d&#039;Estudis Politècnics
REFRESH-INTERVAL;VALUE=DURATION:PT1H
X-Robots-Tag:noindex
X-PUBLISHED-TTL:PT1H
BEGIN:VTIMEZONE
TZID:Europe/Madrid
BEGIN:DAYLIGHT
TZOFFSETFROM:+0100
TZOFFSETTO:+0200
TZNAME:CEST
DTSTART:20250330T010000
END:DAYLIGHT
BEGIN:STANDARD
TZOFFSETFROM:+0200
TZOFFSETTO:+0100
TZNAME:CET
DTSTART:20251026T010000
END:STANDARD
END:VTIMEZONE
BEGIN:VEVENT
DTSTART;TZID=Europe/Madrid:20250915T084000
DTEND;TZID=Europe/Madrid:20250916T140000
DTSTAMP:20260422T164957
CREATED:20250917T071304Z
LAST-MODIFIED:20250917T071304Z
UID:11753-1757925600-1758031200@politecnics.barcelona
SUMMARY:Acollida al Politècnics
DESCRIPTION:Acollida al Politècnics\nLloc\nAules de Sta. Anna \nGrups\nCINT1A\, MARP1A\, MARP1B\, MARP1C \nObjectiu\nEndinsar-se en la metodologia de treball del Politècnics i conèixer als companys/es \nFarem\nDurant aquests dos dies l’alumnat de CINT/TIL1 i MARP1 treballarà per saber com es treballarà al llarg del curs i farà dinàmiques per conèixer a l’alumnat dels diferents grups \nEnllaços\nAltres consideracions
URL:https://politecnics.barcelona/agenda/acollida-al-politecnics/
LOCATION:Aules de Sta. Anna
CATEGORIES:Esdeveniments
ATTACH;FMTTYPE=image/png:https://politecnics.barcelona/wp-content/uploads/u6121215764_Imatge_realista_dun_esdeveniment_de_dos_dies_en_u_ec37961f-4636-413d-959f-7125a0ffba50_3.png
ORGANIZER;CN="c_brgvl73eel0af0uv3mcl0bi3u8@group.calendar.google.com":MAILTO:c_brgvl73eel0af0uv3mcl0bi3u8@group.calendar.google.com
END:VEVENT
END:VCALENDAR