BEGIN:VCALENDAR
VERSION:2.0
PRODID:-//Centre d&#039;Estudis Politècnics - ECPv6.3.3.1//NONSGML v1.0//EN
CALSCALE:GREGORIAN
METHOD:PUBLISH
X-ORIGINAL-URL:https://politecnics.barcelona
X-WR-CALDESC:Esdeveniments per Centre d&#039;Estudis Politècnics
REFRESH-INTERVAL;VALUE=DURATION:PT1H
X-Robots-Tag:noindex
X-PUBLISHED-TTL:PT1H
BEGIN:VTIMEZONE
TZID:Europe/Madrid
BEGIN:DAYLIGHT
TZOFFSETFROM:+0100
TZOFFSETTO:+0200
TZNAME:CEST
DTSTART:20250330T010000
END:DAYLIGHT
BEGIN:STANDARD
TZOFFSETFROM:+0200
TZOFFSETTO:+0100
TZNAME:CET
DTSTART:20251026T010000
END:STANDARD
END:VTIMEZONE
BEGIN:VEVENT
DTSTART;TZID=Europe/Madrid:20251022T100000
DTEND;TZID=Europe/Madrid:20251022T140000
DTSTAMP:20260422T073904
CREATED:20251022T090849Z
LAST-MODIFIED:20251022T090849Z
UID:11994-1761127200-1761141600@politecnics.barcelona
SUMMARY:Fira Intermodal Europe
DESCRIPTION:Fira Intermodal Europe\nLloc\nCentre Santa Anna \nGrups\nCINT1A \nObjectiu\nConèixer els principals actors del sector del Transport Intermodal\, els serveis que ofereixes i les últimes innovacions en tecnologíes que apliquen. \nFarem\nVisitarem la Fira Intermodal Europe a La Fira Gran Vía de Barcelona \nEnllaços\nhttps://www.intermodal-events.com/en/home.html \nAltres consideracions
URL:https://politecnics.barcelona/agenda/fira-intermodal-europe/
LOCATION:Centre Santa Anna
CATEGORIES:Esdeveniments
ATTACH;FMTTYPE=image/jpeg:https://politecnics.barcelona/wp-content/uploads/Intermodal-Europe.jpg
ORGANIZER;CN="Centre d'Estudis Polit%C3%A8cnics":MAILTO:comunicacio@politecnics.barcelona
END:VEVENT
BEGIN:VEVENT
DTSTART;TZID=Europe/Madrid:20251022T110000
DTEND;TZID=Europe/Madrid:20251022T133000
DTSTAMP:20260422T073904
CREATED:20251006T090152Z
LAST-MODIFIED:20251006T090152Z
UID:11895-1761130800-1761139800@politecnics.barcelona
SUMMARY:Visita a LaLudo: espai lúdic ambiental per a famílies
DESCRIPTION:Visita a LaLudo: espai lúdic ambiental per a famílies\nLloc\nPas de l’Institut Escola\, Ciutat Vella\, 08003 Barcelona \nGrups\nEI1A \nObjectiu\nApropar l’alumnat a LaLudo\, un projecte referent per a les famílies de Barcelona\, on podrem conèixer de primera mà un espai lúdic i ambiental amb una mirada respectuosa i amable envers les necessitats reals de joc i moviment lliure dels infants de 0 a 6 anys\, així com les de les seves famílies. Tot plegat\, en un entorn natural únic. \nFarem\nVisitarem tant l’espai interior com l’exterior de LaLudo. Les educadores ens explicaran el projecte\, els seus serveis\, propostes i activitats\, i compartiran la seva mirada pedagògica envers la infància i l’acompanyament a les famílies. \nEnllaços\nhttps://ajuntament.barcelona.cat/agendasostenible/ca/laludo-de-la-ciutadella-0 \nAltres consideracions
URL:https://politecnics.barcelona/agenda/visita-a-laludo-espai-ludic-ambiental-per-a-families/
LOCATION:Pas de l’Institut Escola\, Ciutat Vella\, 08003 Barcelona
CATEGORIES:Esdeveniments
ATTACH;FMTTYPE=image/png:https://politecnics.barcelona/wp-content/uploads/u6121215764_a_group_of_early_childhood_education_students_vis_6784930f-537e-4ca1-92ec-3f809dcc6800_2.png
ORGANIZER;CN="Centre d'Estudis Polit%C3%A8cnics":MAILTO:comunicacio@politecnics.barcelona
END:VEVENT
BEGIN:VEVENT
DTSTART;TZID=Europe/Madrid:20251022T150000
DTEND;TZID=Europe/Madrid:20251022T180000
DTSTAMP:20260422T073904
CREATED:20251022T100445Z
LAST-MODIFIED:20251022T100445Z
UID:11996-1761145200-1761156000@politecnics.barcelona
SUMMARY:Fira Intermodal Europe
DESCRIPTION:Fira Intermodal Europe\nLloc\nFira Gran Via de Barcelona \nGrups\nCINT2A \nObjectiu\nConèixer de primera ma els principals actors del sector de la logística i el transport intermodal\, així com els serveis que ofereixen i les últimes innovacions en tecnologies aplicades. \nFarem\nVisitarem la Fira Intermodal Europe a la Fira Gran Via de Barcelona \nEnllaços\nhttps://www.intermodal-events.com/en/home.html \nAltres consideracions
URL:https://politecnics.barcelona/agenda/fira-intermodal-europe-2/
LOCATION:Fira Gran Via de Barcelona
CATEGORIES:Esdeveniments
ATTACH;FMTTYPE=image/jpeg:https://politecnics.barcelona/wp-content/uploads/Fira-Intermodal-Europe.jpg
ORGANIZER;CN="Centre d'Estudis Polit%C3%A8cnics":MAILTO:comunicacio@politecnics.barcelona
END:VEVENT
END:VCALENDAR