BEGIN:VCALENDAR
VERSION:2.0
PRODID:-//Centre d&#039;Estudis Politècnics - ECPv6.3.3.1//NONSGML v1.0//EN
CALSCALE:GREGORIAN
METHOD:PUBLISH
X-ORIGINAL-URL:https://politecnics.barcelona
X-WR-CALDESC:Esdeveniments per Centre d&#039;Estudis Politècnics
REFRESH-INTERVAL;VALUE=DURATION:PT1H
X-Robots-Tag:noindex
X-PUBLISHED-TTL:PT1H
BEGIN:VTIMEZONE
TZID:Europe/Madrid
BEGIN:DAYLIGHT
TZOFFSETFROM:+0100
TZOFFSETTO:+0200
TZNAME:CEST
DTSTART:20250330T010000
END:DAYLIGHT
BEGIN:STANDARD
TZOFFSETFROM:+0200
TZOFFSETTO:+0100
TZNAME:CET
DTSTART:20251026T010000
END:STANDARD
END:VTIMEZONE
BEGIN:VEVENT
DTSTART;TZID=Europe/Madrid:20251003T103000
DTEND;TZID=Europe/Madrid:20251003T140000
DTSTAMP:20260425T154455
CREATED:20251002T065113Z
LAST-MODIFIED:20251002T080043Z
UID:11849-1759487400-1759500000@politecnics.barcelona
SUMMARY:Exposició fotoperiodisme de guerra · Abood Abusalama & Valeria Marcolin
DESCRIPTION:Exposició fotoperiodisme de guerra · Abood Abusalama & Valeria Marcolin\nLloc\nSeu de Plàudite teatre – Edifici Freixas \nGrups\nMARP1A\, MARP1B\, MARP1C \nObjectiu\nConèixer la crueltat d’una guerra a través de l’anàlisi de les imatges del fotògraf Abood Abusalama \nFarem\nVisita a exposició de fotografia del periodista videògraf i fotògraf l’Abood Abusalama\, en col·laboració a la Valeria Marcolin co-directora de la ONG francesa Culture et Développement vinculada a la l’UNESCO així com de F. Javier Gil Muñana\, director creatiu de ACTUAL is a design i realització d’una acció de comunicació solidària.\nPosterioment aquesta activitat servirà per reflexionar sobre les guerres des del mòdul de tutoria. \nEnllaços\nhttps://maps.app.goo.gl/A2xKoX5UcyaxdjF46?g_st=aw \nAltres consideracions
URL:https://politecnics.barcelona/agenda/visita-a-exposicio-de-fotografia-del-periodista-videograf-i-fotograf-labood-abusalama/
LOCATION:Seu de Plàudite teatre – Edifici Freixas
CATEGORIES:Esdeveniments
ATTACH;FMTTYPE=image/jpeg:https://politecnics.barcelona/wp-content/uploads/Imatges-per-transformar.jpg
ORGANIZER;CN="Centre d'Estudis Polit%C3%A8cnics":MAILTO:comunicacio@politecnics.barcelona
END:VEVENT
BEGIN:VEVENT
DTSTART;TZID=Europe/Madrid:20251003T153000
DTEND;TZID=Europe/Madrid:20251003T180000
DTSTAMP:20260425T154455
CREATED:20251002T072258Z
LAST-MODIFIED:20251002T080138Z
UID:11860-1759505400-1759514400@politecnics.barcelona
SUMMARY:Exposició fotoperiodisme de guerra · Abood Abusalama & Valeria Marcolin
DESCRIPTION:Exposició fotoperiodisme de guerra · Abood Abusalama & Valeria Marcolin\nLloc\nSeu de Plàudite teatre – Edifici Freixas \nGrups\nMARP2A\, MARP2B\, MARP2C \nObjectiu\nConèixer la crueltat d’una guerra a través de l’anàlisi de les imatges del fotògraf Abood Abusalama \nFarem\nVisita a exposició de fotografia del periodista videògraf i fotògraf l’Abood Abusalama\, en col·laboració a la Valeria Marcolin co-directora de la ONG francesa Culture et Développement vinculada a la l’UNESCO\, així com de F. Javier Gil Muñana\, director creatiu de ACTUAL is a design i realització d’una acció de comunicació solidària.\nPosterioment aquesta activitat servirà per reflexionar sobre les guerres des del mòdul de tutoria. \nEnllaços\nhttps://maps.app.goo.gl/A2xKoX5UcyaxdjF46?g_st=aw \nAltres consideracions
URL:https://politecnics.barcelona/agenda/visita-a-exposicio-de-fotografia-del-periodista-videograf-i-fotograf-labood-abusalama-en-collaboracio-a-la-valeria-marcolin-co-directora-de-la-ong-francesa-culture-et-developpement-vinculada-a-la-l/
LOCATION:Seu de Plàudite teatre – Edifici Freixas
CATEGORIES:Esdeveniments
ATTACH;FMTTYPE=image/jpeg:https://politecnics.barcelona/wp-content/uploads/Exposicio-fotoperiodisme.jpg
ORGANIZER;CN="Centre d'Estudis Polit%C3%A8cnics":MAILTO:comunicacio@politecnics.barcelona
END:VEVENT
END:VCALENDAR