BEGIN:VCALENDAR
VERSION:2.0
PRODID:-//Centre d&#039;Estudis Politècnics - ECPv6.3.3.1//NONSGML v1.0//EN
CALSCALE:GREGORIAN
METHOD:PUBLISH
X-WR-CALNAME:Centre d&#039;Estudis Politècnics
X-ORIGINAL-URL:https://politecnics.barcelona
X-WR-CALDESC:Esdeveniments per Centre d&#039;Estudis Politècnics
REFRESH-INTERVAL;VALUE=DURATION:PT1H
X-Robots-Tag:noindex
X-PUBLISHED-TTL:PT1H
BEGIN:VTIMEZONE
TZID:Europe/Madrid
BEGIN:DAYLIGHT
TZOFFSETFROM:+0100
TZOFFSETTO:+0200
TZNAME:CEST
DTSTART:20250330T010000
END:DAYLIGHT
BEGIN:STANDARD
TZOFFSETFROM:+0200
TZOFFSETTO:+0100
TZNAME:CET
DTSTART:20251026T010000
END:STANDARD
END:VTIMEZONE
BEGIN:VEVENT
DTSTART;TZID=Europe/Madrid:20251006T090000
DTEND;TZID=Europe/Madrid:20251006T110000
DTSTAMP:20260424T074950
CREATED:20251003T080101Z
LAST-MODIFIED:20251003T080101Z
UID:11891-1759741200-1759748400@politecnics.barcelona
SUMMARY:Taller antiracisme: canviem el marc!
DESCRIPTION:Taller antiracisme: canviem el marc!\nLloc\nCentre Santa Anna \nGrups\nEI1A \nObjectiu\nPromoure una mirada respectuosa i inclusiva a l’alumnat amb incidència en la provenció de violències estructurals\, en aquest cas: el racisme. \nFarem\nLes persones pensem com parlem: les paraules i metàfores que fem servir a diari\, i sovint de manera mecànica\, tenen la capacitat de donar forma a la nostra manera d’entendre el món. Aquest taller reflexiona sobre «com» parlem\, per tal de ser capaços de reconèixer els elements estructurals de racisme que «reconstruïm»\, legitimem i normalitzem. Es farà a partir de la comprensió dels marcs mentals opressius que les nostres paraules evoquen\, i mitjançant l’anàlisi crític de narratives opressives i discriminatòries. \nDurant el taller es reflexionarà sobre com funcionen aquests mecanismes\, i s’analitzaran les característiques que tenen les narratives opressives (racistes) a través de vídeos i casos d’estudi seleccionades a partir de fets i situacions d’actualitat. Durant el taller es proposaran algunes pautes per a construir narratives transformadores dels «marcs» mitjançant exemples i experiències concretes. \nEnllaços\nhttps://ajuntament.barcelona.cat/bcnacciointercultural/ca/estrategia-bcn-antirumors/formacio/cataleg-dactivitats-interculturals/canviem-el-marc \nAltres consideracions
URL:https://politecnics.barcelona/agenda/taller-antiracisme-canviem-el-marc/
LOCATION:Centre Santa Anna
CATEGORIES:Esdeveniments
ATTACH;FMTTYPE=image/png:https://politecnics.barcelona/wp-content/uploads/sin-mano_negro-transparente-e1652717725313-Merce-Aranda-Torrents.png
ORGANIZER;CN="Centre d'Estudis Polit%C3%A8cnics":MAILTO:comunicacio@politecnics.barcelona
END:VEVENT
BEGIN:VEVENT
DTSTART;TZID=Europe/Madrid:20251006T090000
DTEND;TZID=Europe/Madrid:20251006T133000
DTSTAMP:20260424T074950
CREATED:20250930T104407Z
LAST-MODIFIED:20250930T104407Z
UID:11818-1759741200-1759757400@politecnics.barcelona
SUMMARY:Visita BRACAFÉ
DESCRIPTION:Visita BRACAFÉ\nLloc\nC/ Comte d’Urgell\, 35 \nGrups\nACOM1A \nObjectiu\nConèixer diferents comerços de l’Eixample. \nFarem\nEn la visita\, en primer lloc\, l’alumnat tindrà l’oportunitat de veure en directe el procés d’elaboració del cafè: com es rep la matèria primera\, les seves qualitats i procedències\, com es realitza el control de qualitat\, l’emmagatzematge\, la torrefacció\, el procés del refredat\, la desgasificació i l’envasat manual. Seguidament\, es realitzarà una dinàmica per a comprendre la importància dels productes artesanals\, els diferents tipus de procedència i les qualitats que caracteritzen els diferents cafès. Finalment\, es durà a terme una activitat pràctica per conèixer el procés industrial amb totes les seves fases. \nEnllaços\n\nInicio \n\nAltres consideracions\nAprofitarem la sortida per fer una activitat de descobriment del comerç de l’Eixample.
URL:https://politecnics.barcelona/agenda/visita-bracafe-2/
LOCATION:C/ Comte d’Urgell\, 35
CATEGORIES:Esdeveniments
ATTACH;FMTTYPE=image/jpeg:https://politecnics.barcelona/wp-content/uploads/Cafe-bracafe.jpeg
ORGANIZER;CN="Centre d'Estudis Polit%C3%A8cnics":MAILTO:comunicacio@politecnics.barcelona
END:VEVENT
END:VCALENDAR