BEGIN:VCALENDAR
VERSION:2.0
PRODID:-//Centre d&#039;Estudis Politècnics - ECPv6.3.3.1//NONSGML v1.0//EN
CALSCALE:GREGORIAN
METHOD:PUBLISH
X-ORIGINAL-URL:https://politecnics.barcelona
X-WR-CALDESC:Esdeveniments per Centre d&#039;Estudis Politècnics
REFRESH-INTERVAL;VALUE=DURATION:PT1H
X-Robots-Tag:noindex
X-PUBLISHED-TTL:PT1H
BEGIN:VTIMEZONE
TZID:Europe/Madrid
BEGIN:DAYLIGHT
TZOFFSETFROM:+0100
TZOFFSETTO:+0200
TZNAME:CEST
DTSTART:20250330T010000
END:DAYLIGHT
BEGIN:STANDARD
TZOFFSETFROM:+0200
TZOFFSETTO:+0100
TZNAME:CET
DTSTART:20251026T010000
END:STANDARD
END:VTIMEZONE
BEGIN:VEVENT
DTSTART;TZID=Europe/Madrid:20251120T093000
DTEND;TZID=Europe/Madrid:20251121T130000
DTSTAMP:20260421T184326
CREATED:20251117T093446Z
LAST-MODIFIED:20251117T093446Z
UID:12198-1763631000-1763730000@politecnics.barcelona
SUMMARY:Visita a la Seu de Lidl España
DESCRIPTION:Visita a la Seu de Lidl España\nLloc\nOficines Centrals de Lidl España – Montcada i Reixac \nGrups\n1r de Màrqueting i Publicitat A\, B i C \nObjectiu\nConèixer de primera mà l’empresa que ha encarregat el projecte que està desenvolupant l’alumnat de 1r de Màrqueting i Publicitat\, descobrir el funcionament del departament de màrqueting de Lidl i informar-se sobre les oportunitats de FP Dual que ofereixen. \nFarem\nVisitem les Oficines Centrals de Lidl España per participar en una jornada corporativa pensada exclusivament per al nostre alumnat: \n\n\n09.30 h – Recepció\, accés a l’auditori i petit desdejuni. \n\n\n10.00 h – Presentació corporativa de Lidl + espai de preguntes sobre FP Dual. \n\n\n10.45 h – Taller pràctic: Màrqueting i E-commerce + resolució de dubtes. \n\n\n12.30 h – Dinar a les instal·lacions. \n\n\n13.00 h – Tancament entre l’equip docent i l’equip Lidl. \n\n\nUna oportunitat per descobrir com treballa una marca líder\, entendre els seus processos i connectar l’aprenentatge de l’aula amb la realitat del sector. \nEnllaços\nhttps://www.google.com/maps/dir/41.3855642\,2.1719875/Pol.+Ind.+La+Granja\,+Carrer+del+Beat+Oriol\,+s%2Fn\,+08110+Montcada+i+Reixac\,+Barcelona/@41.4828125\,2.1679139\,14.25z/data=!4m10!4m9!1m1!4e1!1m5!1m1!1s0x12a4bdc5219086ab:0x2e71381c494ee693!2m2!1d2.1733577!2d41.4918403!3e3?entry=ttu&g_ep=EgoyMDI1MTExMC4wIKXMDSoASAFQAw%3D%3D \nAltres consideracions
URL:https://politecnics.barcelona/agenda/visita-a-la-seu-de-lidl-espana/
LOCATION:Oficines Centrals Lidl Espanya
CATEGORIES:Esdeveniments
ATTACH;FMTTYPE=image/jpeg:https://politecnics.barcelona/wp-content/uploads/WhatsApp-Image-2024-11-03-at-19.23.02-e1730658318870.jpeg
ORGANIZER;CN="Centre d'Estudis Polit%C3%A8cnics":MAILTO:comunicacio@politecnics.barcelona
END:VEVENT
BEGIN:VEVENT
DTSTART;TZID=Europe/Madrid:20251120T151000
DTEND;TZID=Europe/Madrid:20251120T161000
DTSTAMP:20260421T184326
CREATED:20251103T093658Z
LAST-MODIFIED:20251103T093658Z
UID:12034-1763651400-1763655000@politecnics.barcelona
SUMMARY:Xerrada a càrrec d’en Sergi Portolés – exalumne
DESCRIPTION:Xerrada a càrrec d’en Sergi Portolés – exalumne\nLloc\nCentre d’Estudis Politècnics · Urquinaona ·  Aula 1.4 \nGrups\n2nA d’Administració i Finances \nObjectiu\nDonar a conèixer els aspectes clau de la facturació entre autònoms i societats\, presentar el nou sistema de facturació Veri*Factu i reflexionar sobre com la intel·ligència artificial està transformant els processos administratius i de gestió a les pimes. \nFarem\nAssistim a una xerrada d’en Sergi Portolés\, exalumne del centre i actual gestor a Geslem.Durant la sessió\, en Sergi ens explicarà de manera pràctica: \n\n\nLes diferències i relacions de facturació entre autònoms i societats. \n\n\nEl funcionament i les novetats del sistema Veri*Factu. \n\n\nCom la intel·ligència artificial incideix actualment en la gestió de les pimes\, amb exemples reals i aplicacions concretes. \n\n\nLa xerrada combinarà una part informativa i demostrativa amb espai per preguntes i resolució de dubtes. \nEnllaços\nWeb de la Gestoria que regenta \nAltres consideracions\n 
URL:https://politecnics.barcelona/agenda/xerrada-a-carrec-den-sergi-portoles-exalumne/
LOCATION:Centre d’Estudis Politècnics. Aula 1.4
CATEGORIES:Esdeveniments
ATTACH;FMTTYPE=image/png:https://politecnics.barcelona/wp-content/uploads/u6121215764_vocational_education_students_attending_a_busines_fd35cf4a-ca7f-4de2-a714-069ff837c10b_3.png
ORGANIZER;CN="Centre d'Estudis Polit%C3%A8cnics":MAILTO:comunicacio@politecnics.barcelona
END:VEVENT
END:VCALENDAR