BEGIN:VCALENDAR
VERSION:2.0
PRODID:-//Centre d&#039;Estudis Politècnics - ECPv6.3.3.1//NONSGML v1.0//EN
CALSCALE:GREGORIAN
METHOD:PUBLISH
X-WR-CALNAME:Centre d&#039;Estudis Politècnics
X-ORIGINAL-URL:https://politecnics.barcelona
X-WR-CALDESC:Esdeveniments per Centre d&#039;Estudis Politècnics
REFRESH-INTERVAL;VALUE=DURATION:PT1H
X-Robots-Tag:noindex
X-PUBLISHED-TTL:PT1H
BEGIN:VTIMEZONE
TZID:Europe/Madrid
BEGIN:DAYLIGHT
TZOFFSETFROM:+0100
TZOFFSETTO:+0200
TZNAME:CEST
DTSTART:20250330T010000
END:DAYLIGHT
BEGIN:STANDARD
TZOFFSETFROM:+0200
TZOFFSETTO:+0100
TZNAME:CET
DTSTART:20251026T010000
END:STANDARD
END:VTIMEZONE
BEGIN:VEVENT
DTSTART;TZID=Europe/Madrid:20250326T151000
DTEND;TZID=Europe/Madrid:20250326T180000
DTSTAMP:20260421T193320
CREATED:20250127T163410Z
LAST-MODIFIED:20250127T163410Z
UID:10476-1743001800-1743012000@politecnics.barcelona
SUMMARY:15a Fira d'Empreses Simulades de Barcelona
DESCRIPTION:15a Fira d’Empreses Simulades de Barcelona\nLloc\nFira de Montjuïc \nGrups\nAFI2A \nObjectiu\nL’activitat busca que l’alumnat participi activament en una Fira de Simulació Empresarial\, adquirint experiència pràctica en la gestió d’operacions comercials i desenvolupant habilitats de negociació i comunicació. \nFarem\nDurant la jornada\, l’alumnat realitzarà transaccions comercials amb altres empreses simulades\, reproduint situacions reals del món empresarial. Aquesta experiència permetrà posar en pràctica els coneixements adquirits al llarg del curs. \nEnllaços\n\nAltres consideracions
URL:https://politecnics.barcelona/agenda/15a-fira-dempreses-simulades-de-barcelona/
LOCATION:Fira de Montjuïc
CATEGORIES:Esdeveniments
ATTACH;FMTTYPE=image/webp:https://politecnics.barcelona/wp-content/uploads/DALL·E-2025-01-27-17.32.41-A-bustling-trade-fair-scene-at-Fira-de-Montjuic-featuring-students-from-AFI2A-participating-in-simulated-business-transactions.-Booths-are-set-up-with.webp
ORGANIZER;CN="Centre d'Estudis Polit%C3%A8cnics":MAILTO:comunicacio@politecnics.barcelona
END:VEVENT
END:VCALENDAR