BEGIN:VCALENDAR
VERSION:2.0
PRODID:-//Centre d&#039;Estudis Politècnics - ECPv6.3.3.1//NONSGML v1.0//EN
CALSCALE:GREGORIAN
METHOD:PUBLISH
X-ORIGINAL-URL:https://politecnics.barcelona
X-WR-CALDESC:Esdeveniments per Centre d&#039;Estudis Politècnics
REFRESH-INTERVAL;VALUE=DURATION:PT1H
X-Robots-Tag:noindex
X-PUBLISHED-TTL:PT1H
BEGIN:VTIMEZONE
TZID:Europe/Madrid
BEGIN:DAYLIGHT
TZOFFSETFROM:+0100
TZOFFSETTO:+0200
TZNAME:CEST
DTSTART:20240331T010000
END:DAYLIGHT
BEGIN:STANDARD
TZOFFSETFROM:+0200
TZOFFSETTO:+0100
TZNAME:CET
DTSTART:20241027T010000
END:STANDARD
END:VTIMEZONE
BEGIN:VEVENT
DTSTART;TZID=Europe/Madrid:20240423T093000
DTEND;TZID=Europe/Madrid:20240423T120000
DTSTAMP:20260423T102738
CREATED:20240421T144624Z
LAST-MODIFIED:20240421T144624Z
UID:9464-1713864600-1713873600@politecnics.barcelona
SUMMARY:Exposicions públiques
DESCRIPTION:Exposicions públiques\nLloc\nCentre Cívic d’Urgell \nGrups\nSMIX1A\, SMIX1B\, SMIX2A\, SMIX2B \nObjectiu\nEls equips de treball presentaran els seus projectes per a Labdoo \nFarem\nPresentacions públiques dels projectes \nEnllaços\n\nPàgina d’inici \n\nAltres consideracions
URL:https://politecnics.barcelona/agenda/exposicions-publiques/
LOCATION:Centre Cívic d’Urgell
CATEGORIES:Esdeveniments
ATTACH;FMTTYPE=image/png:https://politecnics.barcelona/wp-content/uploads/Captura-de-pantalla-2024-04-21-a-las-16.45.44.png
ORGANIZER;CN="Centre d'Estudis Polit%C3%A8cnics":MAILTO:comunicacio@politecnics.barcelona
END:VEVENT
END:VCALENDAR