BEGIN:VCALENDAR
VERSION:2.0
PRODID:-//Centre d&#039;Estudis Politècnics - ECPv6.3.3.1//NONSGML v1.0//EN
CALSCALE:GREGORIAN
METHOD:PUBLISH
X-ORIGINAL-URL:https://politecnics.barcelona
X-WR-CALDESC:Esdeveniments per Centre d&#039;Estudis Politècnics
REFRESH-INTERVAL;VALUE=DURATION:PT1H
X-Robots-Tag:noindex
X-PUBLISHED-TTL:PT1H
BEGIN:VTIMEZONE
TZID:Europe/Madrid
BEGIN:DAYLIGHT
TZOFFSETFROM:+0100
TZOFFSETTO:+0200
TZNAME:CEST
DTSTART:20240331T010000
END:DAYLIGHT
BEGIN:STANDARD
TZOFFSETFROM:+0200
TZOFFSETTO:+0100
TZNAME:CET
DTSTART:20241027T010000
END:STANDARD
END:VTIMEZONE
BEGIN:VEVENT
DTSTART;TZID=Europe/Madrid:20241107T093000
DTEND;TZID=Europe/Madrid:20241107T130000
DTSTAMP:20260423T120524
CREATED:20241029T093310Z
LAST-MODIFIED:20241029T093523Z
UID:9938-1730971800-1730984400@politecnics.barcelona
SUMMARY:Visita Bracafé - ACOM1A
DESCRIPTION:Visita Bracafé\nLloc\nComte d’Urgell\, 35 Botiga Bracafé \nGrups\nACOM1A \nObjectiu\nConèixer les característiques de l’empresa.Viure tot el procés d’elaboració del cafè\, des de l’arribada de la matèria primera\, la torrefacció i la seva comercialització. Obrir horitzons als estudiants sobre possibles sortides laborals.Conèixer alguns dels requeriments administratius per a l’activitat industrial. \nFarem\nBreu explicació de la història del negoci.Veure en directe el procés d’elaboració del cafè\,com es realitza el control de qualitat\, l’emmagatzematge\, la torrefacció\, el procés del refredat\, la desgasificació i l’envasat manual.Dinàmica per a comprendre la importància dels productes artesanals\, els diferents tipus de procedència i les qualitats que caracteritzen els diferents cafès. \nEnllaços\n\nInicio \n\nAltres consideracions\nA més de la visita a Bracafé\, faran una dinàmica pel comerç de la zona.
URL:https://politecnics.barcelona/agenda/visita-bracafe/
LOCATION:Comte d’Urgell\, 35 Botiga Bracafé
CATEGORIES:Esdeveniments
ATTACH;FMTTYPE=image/jpeg:https://politecnics.barcelona/wp-content/uploads/Cafe-bracafe.jpeg
ORGANIZER;CN="Centre d'Estudis Polit%C3%A8cnics":MAILTO:comunicacio@politecnics.barcelona
END:VEVENT
BEGIN:VEVENT
DTSTART;TZID=Europe/Madrid:20241114T093000
DTEND;TZID=Europe/Madrid:20241114T130000
DTSTAMP:20260423T120524
CREATED:20241029T093455Z
LAST-MODIFIED:20241029T093455Z
UID:9942-1731576600-1731589200@politecnics.barcelona
SUMMARY:Visita Bracafé - ACOM1B
DESCRIPTION:Visita Bracafé\nLloc\nCarrer Urgell\, 35 de Barcelona \nGrups\nACOM1B \nObjectiu\nConèixer les característiques de l’empresa.Viure tot el procés d’elaboració del cafè\, des de l’arribada de la matèria primera\, la torrefacció i la seva comercialització. Obrir horitzons als estudiants sobre possibles sortides laborals.Conèixer alguns dels requeriments administratius per a l’activitat industrial. \nFarem\nBreu explicació de la història del negoci.Veure en directe el procés d’elaboració del cafè\,com es realitza el control de qualitat\, l’emmagatzematge\, la torrefacció\, el procés del refredat\, la desgasificació i l’envasat manual.Dinàmica per a comprendre la importància dels productes artesanals\, els diferents tipus de procedència i les qualitats que caracteritzen els diferents cafès. \nEnllaços\nbracafe.com \nAltres consideracions\nA més de la visita\, faran una activitat pel comerç de la zona
URL:https://politecnics.barcelona/agenda/visita-bracafe-acom1b/
LOCATION:Carrer Urgell\, 35 de Barcelona
CATEGORIES:Esdeveniments
ATTACH;FMTTYPE=image/jpeg:https://politecnics.barcelona/wp-content/uploads/Cafe-bracafe.jpeg
ORGANIZER;CN="Centre d'Estudis Polit%C3%A8cnics":MAILTO:comunicacio@politecnics.barcelona
END:VEVENT
END:VCALENDAR