BEGIN:VCALENDAR
VERSION:2.0
PRODID:-//Centre d&#039;Estudis Politècnics - ECPv6.3.3.1//NONSGML v1.0//EN
CALSCALE:GREGORIAN
METHOD:PUBLISH
X-ORIGINAL-URL:https://politecnics.barcelona
X-WR-CALDESC:Esdeveniments per Centre d&#039;Estudis Politècnics
REFRESH-INTERVAL;VALUE=DURATION:PT1H
X-Robots-Tag:noindex
X-PUBLISHED-TTL:PT1H
BEGIN:VTIMEZONE
TZID:Europe/Madrid
BEGIN:DAYLIGHT
TZOFFSETFROM:+0100
TZOFFSETTO:+0200
TZNAME:CEST
DTSTART:20240331T010000
END:DAYLIGHT
BEGIN:STANDARD
TZOFFSETFROM:+0200
TZOFFSETTO:+0100
TZNAME:CET
DTSTART:20241027T010000
END:STANDARD
END:VTIMEZONE
BEGIN:VEVENT
DTSTART;TZID=Europe/Madrid:20241115T150000
DTEND;TZID=Europe/Madrid:20241119T200000
DTSTAMP:20260424T132233
CREATED:20241112T153758Z
LAST-MODIFIED:20241112T153758Z
UID:10127-1731682800-1732046400@politecnics.barcelona
SUMMARY:Forma't al Port - Talent 2024
DESCRIPTION:Forma’t al Port – Talent 2024\nLloc\nCreuer Barcelona- Genova-Barcelona \nGrups\nCINT2A \nObjectiu\nCapacitar l’alumnat en logística intermodal i operacions portuàries\, proporcionant-li coneixements pràctics i habilitats per avaluar l’impacte ambiental del transport\, entendre les polítiques de sostenibilitat de la Unió Europea i preparar-li per una carrera en el sector logístic amb l’orientació de persones expertes en selecció de personal. \nFarem\nFormació intensiva en logística intermodal i transport marítim al Port de Barcelona\, combinant classes teòriques\, visites pràctiques i treball en equip per familiaritzar l’alumnat amb l’impacte ambiental i les polítiques de sostenibilitat europees\, tot ajudant-li a desenvolupar competències professionals clau. \nEnllaços\nAltres consideracions
URL:https://politecnics.barcelona/agenda/forma-t-al-port-talent-2024/
LOCATION:Escola Europea de Transport Intermodal. Terminal Drassanes Placeta de l’Areté 1\, 08039 Barcelona
CATEGORIES:Esdeveniments
ATTACH;FMTTYPE=image/jpeg:https://politecnics.barcelona/wp-content/uploads/puerto-de-barcelona.jpg
ORGANIZER;CN="Centre d'Estudis Polit%C3%A8cnics":MAILTO:comunicacio@politecnics.barcelona
END:VEVENT
BEGIN:VEVENT
DTSTART;VALUE=DATE:20241128
DTEND;VALUE=DATE:20241129
DTSTAMP:20260424T132233
CREATED:20241128T151138Z
LAST-MODIFIED:20241128T152053Z
UID:10161-1732752000-1732838399@politecnics.barcelona
SUMMARY:Escola de Transport Públic 2024
DESCRIPTION:Escola de Transport Públic 2024\nLloc\nCentre Cívic Urgell \nGrups\nCINT 2A \nObjectiu\nL’alumnat de Comerç Internacional participa a l’Escola de Transport Públic 2024 per entendre els principals reptes del transport ferroviari de mercaderies. L’objectiu és aprofundir en la importància del ferrocarril dins de la logística sostenible i reflexionar sobre la convivència amb altres modalitats de transport. \nFarem\nAssistirem a una ponència inicial d’Enric Ticó\, on es tractaran els desafiaments del sector. També participarem en una taula rodona amb experts que debatran sobre infraestructures\, operadors i estratègies de futur. \nEnllaços\nhttps://transportpublic.org/escolatp2024/ \nAltres consideracions
URL:https://politecnics.barcelona/agenda/escola-de-transport-public-2024/
LOCATION:Centre Cívic Urgell\, Comte d'Urgell\, 145\, Barcelona\, Barcelona\, Barcelonés\, 08011\, Espanya
CATEGORIES:Esdeveniments
ATTACH;FMTTYPE=image/webp:https://politecnics.barcelona/wp-content/uploads/DALL·E-2024-11-28-15.56.47-An-informative-and-modern-digital-event-poster-promoting-the-Escola-de-Transport-Public-2024.-The-design-should-include-a-professional-setting-with-.webp
ORGANIZER;CN="Centre d'Estudis Polit%C3%A8cnics":MAILTO:comunicacio@politecnics.barcelona
END:VEVENT
END:VCALENDAR