BEGIN:VCALENDAR
VERSION:2.0
PRODID:-//Centre d&#039;Estudis Politècnics - ECPv6.3.3.1//NONSGML v1.0//EN
CALSCALE:GREGORIAN
METHOD:PUBLISH
X-WR-CALNAME:Centre d&#039;Estudis Politècnics
X-ORIGINAL-URL:https://politecnics.barcelona
X-WR-CALDESC:Esdeveniments per Centre d&#039;Estudis Politècnics
REFRESH-INTERVAL;VALUE=DURATION:PT1H
X-Robots-Tag:noindex
X-PUBLISHED-TTL:PT1H
BEGIN:VTIMEZONE
TZID:Europe/Madrid
BEGIN:DAYLIGHT
TZOFFSETFROM:+0100
TZOFFSETTO:+0200
TZNAME:CEST
DTSTART:20250330T010000
END:DAYLIGHT
BEGIN:STANDARD
TZOFFSETFROM:+0200
TZOFFSETTO:+0100
TZNAME:CET
DTSTART:20251026T010000
END:STANDARD
END:VTIMEZONE
BEGIN:VEVENT
DTSTART;TZID=Europe/Madrid:20250324T090000
DTEND;TZID=Europe/Madrid:20250324T203000
DTSTAMP:20260424T073035
CREATED:20250127T163035Z
LAST-MODIFIED:20250127T163035Z
UID:10469-1742806800-1742848200@politecnics.barcelona
SUMMARY:Jornada Donació de Sang al Politècnics
DESCRIPTION:Jornada Donació de Sang al Politècnics\nLloc\nCentre d’Estudis Politècnics Urquinaona \nGrups\nTot el centre\, MARP2A\, MARP2B\, MARP2C \nObjectiu\nLa jornada té com a finalitat conscienciar sobre la importància de donar sang i teixits\, destacant el valor d’aquest gest solidari i el seu impacte en salvar vides. A més\, busca difondre la tasca essencial que realitza el Banc de Sang i Teixits\, alhora que permet a l’alumnat treballar les Relacions Públiques (RRPP) mitjançant l’organització d’un esdeveniment vinculat a la responsabilitat social corporativa del centre. \nFarem\nDurant tota la jornada\, que es dividirà en dos torns (de 9:00 h a 13:30 h i de 14:00 h a 19:30 h)\, s’instal·larà una unitat mòbil de donació de sang al centre d’Urquinaona per facilitar la participació de tothom qui vulgui col·laborar. L’alumnat de MARP2 tindrà un paper destacat\, ja que serà responsable de la difusió de la jornada\, proporcionant informació detallada sobre l’esdeveniment\, explicant com reservar hora per a la donació i fomentant activament la participació entre els membres de la comunitat educativa. \nEnllaços\nhttps://www.bancsang.net/ca/ \nAltres consideracions
URL:https://politecnics.barcelona/agenda/jornada-donacio-de-sang-al-politecnics/
LOCATION:Centre d’Estudis Politècnics Urquinaona
CATEGORIES:Esdeveniments
ATTACH;FMTTYPE=image/webp:https://politecnics.barcelona/wp-content/uploads/DALL·E-2025-01-27-17.28.51-A-community-blood-donation-drive-at-an-educational-institution-featuring-a-mobile-donation-unit-outside-the-building.-Students-and-staff-are-participa.webp
ORGANIZER;CN="Centre d'Estudis Polit%C3%A8cnics":MAILTO:comunicacio@politecnics.barcelona
END:VEVENT
END:VCALENDAR