BEGIN:VCALENDAR
VERSION:2.0
PRODID:-//Centre d&#039;Estudis Politècnics - ECPv6.3.3.1//NONSGML v1.0//EN
CALSCALE:GREGORIAN
METHOD:PUBLISH
X-ORIGINAL-URL:https://politecnics.barcelona
X-WR-CALDESC:Esdeveniments per Centre d&#039;Estudis Politècnics
REFRESH-INTERVAL;VALUE=DURATION:PT1H
X-Robots-Tag:noindex
X-PUBLISHED-TTL:PT1H
BEGIN:VTIMEZONE
TZID:Europe/Madrid
BEGIN:DAYLIGHT
TZOFFSETFROM:+0100
TZOFFSETTO:+0200
TZNAME:CEST
DTSTART:20250330T010000
END:DAYLIGHT
BEGIN:STANDARD
TZOFFSETFROM:+0200
TZOFFSETTO:+0100
TZNAME:CET
DTSTART:20251026T010000
END:STANDARD
END:VTIMEZONE
BEGIN:VEVENT
DTSTART;VALUE=DATE:20250920
DTEND;VALUE=DATE:20250921
DTSTAMP:20260421T074652
CREATED:20250913T183138Z
LAST-MODIFIED:20250913T183138Z
UID:11736-1758326400-1758412799@politecnics.barcelona
SUMMARY:Women in Fabric – Barcelona 2025
DESCRIPTION:Al Centre d’Estudis Politècnics tornem a ser punt de trobada de referència per a les comunitats tècniques de Barcelona. Després d’haver acollit esdeveniments com la Netcoreconf Barcelona i els Power BI Days Barcelona\, obrim de nou les portes per a una jornada molt especial: Women in Fabric – Barcelona 2025. \nUn esdeveniment 100% presencial per celebrar\, compartir i impulsar el talent femení en l’ecosistema de Microsoft Fabric. \nDurant aquesta jornada hi trobaràs: \n\n\n3 tracks de contingut tècnic: principiant\, intermig i avançat \n\n\nSessions de mentoring en viu\, properes i participatives \n\n\nEspais de networking i xerrades inspiradores liderades per dones de la comunitat \n\n\nUn punt de trobada obert a persones de tots els nivells — des de qui comença fins a perfils més sènior — amb un objectiu comú: compartir\, aprendre i créixer juntes. \nTot i que les entrades ja estan exhaurides\, si t’interessa assistir-hi contacta amb la teva tutoria.
URL:https://politecnics.barcelona/agenda/women-in-fabric-2025/
LOCATION:Centre d’Estudis Politècnics. Plaça Urquinona\, 10 Barcelona
CATEGORIES:Esdeveniments
ATTACH;FMTTYPE=image/jpeg:https://politecnics.barcelona/wp-content/uploads/Women-in-Fabric-0.jpeg
ORGANIZER;CN="Centre d'Estudis Polit%C3%A8cnics":MAILTO:comunicacio@politecnics.barcelona
END:VEVENT
END:VCALENDAR