BEGIN:VCALENDAR
VERSION:2.0
PRODID:-//Centre d&#039;Estudis Politècnics - ECPv6.3.3.1//NONSGML v1.0//EN
CALSCALE:GREGORIAN
METHOD:PUBLISH
X-WR-CALNAME:Centre d&#039;Estudis Politècnics
X-ORIGINAL-URL:https://politecnics.barcelona
X-WR-CALDESC:Esdeveniments per Centre d&#039;Estudis Politècnics
REFRESH-INTERVAL;VALUE=DURATION:PT1H
X-Robots-Tag:noindex
X-PUBLISHED-TTL:PT1H
BEGIN:VTIMEZONE
TZID:Europe/Madrid
BEGIN:DAYLIGHT
TZOFFSETFROM:+0100
TZOFFSETTO:+0200
TZNAME:CEST
DTSTART:20260329T010000
END:DAYLIGHT
BEGIN:STANDARD
TZOFFSETFROM:+0200
TZOFFSETTO:+0100
TZNAME:CET
DTSTART:20261025T010000
END:STANDARD
END:VTIMEZONE
BEGIN:VEVENT
DTSTART;TZID=Europe/Madrid:20260303T151000
DTEND;TZID=Europe/Madrid:20260303T163000
DTSTAMP:20260421T110957
CREATED:20260113T203946Z
LAST-MODIFIED:20260113T203946Z
UID:12296-1772550600-1772555400@politecnics.barcelona
SUMMARY:Xerrada a càrrec de l'Agència Tributària
DESCRIPTION:Xerrada a càrrec de l’Agència Tributària\nLloc\nAula 1.5 · Centre d’Estudis Politècnics \nGrups\n2nA de Gestió Administrativa \nObjectiu\nQue l’alumnat: \n\n\nEntengui què és l’Agència Tributària i quines funcions desenvolupa. \n\n\nConegui els tributs més habituals (IRPF\, IVA\, impostos especials…). \n\n\nSàpiga què és una declaració\, quan s’ha de presentar i per què és obligatòria. \n\n\nEs familiaritzi amb els tràmits electrònics i l’ús dels certificats digitals. \n\n\nComprengui la importància de la fiscalitat en la gestió administrativa i en el funcionament de les empreses. \n\n\nFarem\nRebem una xerrada formativa a càrrec de l’Agència Tributària\, centrada en el funcionament del sistema fiscal i el seu impacte directe en la pràctica professional de la Gestió Administrativa.La sessió combinarà explicació teòrica amb exemples pràctics relacionats amb situacions reals de l’àmbit administratiu. \nEnllaços\nAltres consideracions
URL:https://politecnics.barcelona/agenda/xerrada-a-carrec-de-lagencia-tributaria/
LOCATION:Aula 1.5
CATEGORIES:Esdeveniments
ATTACH;FMTTYPE=image/png:https://politecnics.barcelona/wp-content/uploads/ce_politecnics_vocational_administrative_management_students__d8c9b578-99a5-4bc2-a2ea-d2a89f253431_0.png
ORGANIZER;CN="Centre d'Estudis Polit%C3%A8cnics":MAILTO:comunicacio@politecnics.barcelona
END:VEVENT
BEGIN:VEVENT
DTSTART;TZID=Europe/Madrid:20260303T151000
DTEND;TZID=Europe/Madrid:20260303T163000
DTSTAMP:20260421T110957
CREATED:20260113T204124Z
LAST-MODIFIED:20260113T204124Z
UID:12451-1772550600-1772555400@politecnics.barcelona
SUMMARY:Xerrada a càrrec de l'Agència Tributària
DESCRIPTION:Xerrada a càrrec de l’Agència Tributària\nLloc\nAula 1.5 · Centre d’Estudis Politècnics \nGrups\n2nA d’Administració i Finances \nObjectiu\nQue l’alumnat: \n\n\nEntengui què és l’Agència Tributària i quines funcions desenvolupa. \n\n\nConegui els tributs més habituals (IRPF\, IVA\, impostos especials…). \n\n\nSàpiga què és una declaració\, quan s’ha de presentar i per què és obligatòria. \n\n\nEs familiaritzi amb els tràmits electrònics i l’ús dels certificats digitals. \n\n\nComprengui la importància de la fiscalitat en la gestió administrativa i en el funcionament de les empreses. \n\n\nFarem\nRebem una xerrada formativa a càrrec de l’Agència Tributària\, centrada en el funcionament del sistema fiscal i el seu impacte directe en la pràctica professional de la Gestió Administrativa.La sessió combinarà explicació teòrica amb exemples pràctics relacionats amb situacions reals de l’àmbit administratiu. \nEnllaços\nAltres consideracions
URL:https://politecnics.barcelona/agenda/xerrada-a-carrec-de-lagencia-tributaria-2/
LOCATION:Aula 1.5
CATEGORIES:Esdeveniments
ATTACH;FMTTYPE=image/png:https://politecnics.barcelona/wp-content/uploads/ce_politecnics_vocational_administrative_management_students__d8c9b578-99a5-4bc2-a2ea-d2a89f253431_0.png
ORGANIZER;CN="Centre d'Estudis Polit%C3%A8cnics":MAILTO:comunicacio@politecnics.barcelona
END:VEVENT
BEGIN:VEVENT
DTSTART;TZID=Europe/Madrid:20260309T103000
DTEND;TZID=Europe/Madrid:20260309T123000
DTSTAMP:20260421T110957
CREATED:20260302T143324Z
LAST-MODIFIED:20260302T143324Z
UID:13028-1773052200-1773059400@politecnics.barcelona
SUMMARY:Monogràfic · MO – Escape Room: Supera un procés de selecció
DESCRIPTION:Monogràfic · MO – Escape Room: Supera un procés de selecció\nLloc\nCentre d’Estudis Politècnics \nGrups\n1r de Gestió Administrativa \nObjectiu\n\n\nExperimentar en primera persona dinàmiques de selecció grupal. \n\n\nEntendre el funcionament d’aquestes proves en processos reals de reclutament. \n\n\nAprendre estratègies per afrontar amb èxit aquest tipus de situacions. \n\n\nFarem\nParticipem en un Room Escape formatiu com a eina d’aprenentatge aplicada als processos de selecció. \nA través del joc\, l’alumnat posarà en pràctica competències com: \n\n\nTreball en equip \n\n\nComunicació \n\n\nLideratge \n\n\nResolució de problemes \n\n\nGestió del temps \n\n\nL’experiència vivencial i l’impacte emocional de l’activitat afavoreixen una millor assimilació de coneixements i una comprensió més profunda del que busquen les empreses en una selecció. \nEnllaços\nbarcelonatreball.joves@barcelonactiva.cat \nAltres consideracions
URL:https://politecnics.barcelona/agenda/monografic-%c2%b7-mo-escape-room-supera-un-proces-de-seleccio/
LOCATION:Centre d’Estudis Politècnics
CATEGORIES:Esdeveniments
ATTACH;FMTTYPE=image/png:https://politecnics.barcelona/wp-content/uploads/ce_politecnics_vocational_administrative_students_participati_d0a20411-7235-404d-8f28-2ab358d9acc7_0.png
ORGANIZER;CN="Centre d'Estudis Polit%C3%A8cnics":MAILTO:comunicacio@politecnics.barcelona
END:VEVENT
END:VCALENDAR