BEGIN:VCALENDAR
VERSION:2.0
PRODID:-//Centre d&#039;Estudis Politècnics - ECPv6.3.3.1//NONSGML v1.0//EN
CALSCALE:GREGORIAN
METHOD:PUBLISH
X-WR-CALNAME:Centre d&#039;Estudis Politècnics
X-ORIGINAL-URL:https://politecnics.barcelona
X-WR-CALDESC:Esdeveniments per Centre d&#039;Estudis Politècnics
REFRESH-INTERVAL;VALUE=DURATION:PT1H
X-Robots-Tag:noindex
X-PUBLISHED-TTL:PT1H
BEGIN:VTIMEZONE
TZID:Europe/Madrid
BEGIN:DAYLIGHT
TZOFFSETFROM:+0100
TZOFFSETTO:+0200
TZNAME:CEST
DTSTART:20250330T010000
END:DAYLIGHT
BEGIN:STANDARD
TZOFFSETFROM:+0200
TZOFFSETTO:+0100
TZNAME:CET
DTSTART:20251026T010000
END:STANDARD
END:VTIMEZONE
BEGIN:VEVENT
DTSTART;TZID=Europe/Madrid:20250117T104500
DTEND;TZID=Europe/Madrid:20250124T130000
DTSTAMP:20260421T024539
CREATED:20250107T193103Z
LAST-MODIFIED:20250107T193837Z
UID:10397-1737110700-1737723600@politecnics.barcelona
SUMMARY:Visita Farmàcia Poblenou
DESCRIPTION:Visita Farmàcia Poblenou\nLloc\nCarrer Pallars\, 231 \nGrups\nACOM1A i ACOM1B \nObjectiu\nConèixer les característiques\, productes i serveis que ofereix una farmàcia i de quina manera ens pot ser d’ajut. Descobrir la tasca de farmacèutic o farmacèutica\, una atenció personalitzada a la població plena de consells relacionats amb la salut.Aprendre de quina manera podem cuidar i mantenir una bona salut. \nFarem\nBreu recorregut per l’establiment per a descobrir allò que es fa a la farmàcia i tot el que podem trobar\, tant els productes com els serveis i apropar-nos a la professió. L’alumnat podrà conèixer de primera mà com portar una farmàcia i reflexionar sobre el paper i la importància de la salut.? Un taller explicatiu de què fem a la farmàcia on l’alumnat coneixerà com prendre la pressió\, què és el laboratori\, l’emmagatzematge dels medicaments… \nEnllaços\nhttps://www.farmaciapoblenou.cat/inici/ \nAltres consideracions
URL:https://politecnics.barcelona/agenda/visita-farmacia-poblenou/
LOCATION:Carrer Pallars\, 231
CATEGORIES:Esdeveniments
ATTACH;FMTTYPE=image/webp:https://politecnics.barcelona/wp-content/uploads/DALL·E-2025-01-07-20.30.19-A-welcoming-pharmacy-environment-located-on-a-modern-city-street.-The-pharmacy-is-visually-clean-and-organized-with-a-clear-sign-reading-Farmacia-Pob.webp
ORGANIZER;CN="Centre d'Estudis Polit%C3%A8cnics":MAILTO:comunicacio@politecnics.barcelona
END:VEVENT
END:VCALENDAR