BEGIN:VCALENDAR
VERSION:2.0
PRODID:-//Centre d&#039;Estudis Politècnics - ECPv6.3.3.1//NONSGML v1.0//EN
CALSCALE:GREGORIAN
METHOD:PUBLISH
X-WR-CALNAME:Centre d&#039;Estudis Politècnics
X-ORIGINAL-URL:https://politecnics.barcelona
X-WR-CALDESC:Esdeveniments per Centre d&#039;Estudis Politècnics
REFRESH-INTERVAL;VALUE=DURATION:PT1H
X-Robots-Tag:noindex
X-PUBLISHED-TTL:PT1H
BEGIN:VTIMEZONE
TZID:Europe/Madrid
BEGIN:DAYLIGHT
TZOFFSETFROM:+0100
TZOFFSETTO:+0200
TZNAME:CEST
DTSTART:20260329T010000
END:DAYLIGHT
BEGIN:STANDARD
TZOFFSETFROM:+0200
TZOFFSETTO:+0100
TZNAME:CET
DTSTART:20261025T010000
END:STANDARD
END:VTIMEZONE
BEGIN:VEVENT
DTSTART;TZID=Europe/Madrid:20260504T093000
DTEND;TZID=Europe/Madrid:20260506T123000
DTSTAMP:20260422T172146
CREATED:20260422T145710Z
LAST-MODIFIED:20260422T145710Z
UID:13591-1777887000-1778070600@politecnics.barcelona
SUMMARY:Visitem les instal·lacions de 3CAT
DESCRIPTION:Visitem les instal·lacions de 3CAT\nLloc\n3CAT · Entrada Pàrquing \nGrups\n1r de Màrqueting i Publicitat (grups A\, B i C) \nObjectiu\nConèixer les instal·lacions de TV3 i entendre com es produeixen els programes\, així com el funcionament dels equips professionals dels àmbits de la comunicació\, el periodisme i la publicitat. \nFarem\nVisitem les instal·lacions de TV3\, on: \n\nDescobrirem els espais de producció audiovisual.\nConeixerem el procés de creació de continguts televisius.\nObservarem com treballen els professionals del sector en un entorn real.\n\nUna experiència que connecta el cicle amb la indústria audiovisual i la comunicació professional. \nEnllaços\nAltres consideracions
URL:https://politecnics.barcelona/agenda/visitem-les-installacions-de-3cat/
LOCATION:Entrada Pàrquing TV3
CATEGORIES:Esdeveniments
ATTACH;FMTTYPE=image/png:https://politecnics.barcelona/wp-content/uploads/ce_politecnics_vocational_marketing_students_visiting_a_profe_bd5622e2-03b9-47e9-8fb5-256dc01b2177_2.png
ORGANIZER;CN="Centre d'Estudis Polit%C3%A8cnics":MAILTO:comunicacio@politecnics.barcelona
END:VEVENT
END:VCALENDAR