BEGIN:VCALENDAR
VERSION:2.0
PRODID:-//Centre d&#039;Estudis Politècnics - ECPv6.3.3.1//NONSGML v1.0//EN
CALSCALE:GREGORIAN
METHOD:PUBLISH
X-WR-CALNAME:Centre d&#039;Estudis Politècnics
X-ORIGINAL-URL:https://politecnics.barcelona
X-WR-CALDESC:Esdeveniments per Centre d&#039;Estudis Politècnics
REFRESH-INTERVAL;VALUE=DURATION:PT1H
X-Robots-Tag:noindex
X-PUBLISHED-TTL:PT1H
BEGIN:VTIMEZONE
TZID:Europe/Madrid
BEGIN:DAYLIGHT
TZOFFSETFROM:+0100
TZOFFSETTO:+0200
TZNAME:CEST
DTSTART:20250330T010000
END:DAYLIGHT
BEGIN:STANDARD
TZOFFSETFROM:+0200
TZOFFSETTO:+0100
TZNAME:CET
DTSTART:20251026T010000
END:STANDARD
END:VTIMEZONE
BEGIN:VEVENT
DTSTART;VALUE=DATE:20250310
DTEND;VALUE=DATE:20250518
DTSTAMP:20260419T202259
CREATED:20250204T120241Z
LAST-MODIFIED:20250328T110544Z
UID:10594-1741564800-1747526399@politecnics.barcelona
SUMMARY:Portes Obertes al Politècnics curs 25/26
DESCRIPTION:Vols visitar les nostres instal·lacions i descobrir com funcionen els nostres cicles? \nReserva la teva plaça a les nostres Portes Obertes. Hi ha diferents dies per a diferents cicles. \n\n\n\n    \n\n 
URL:https://politecnics.barcelona/agenda/portes-obertes-al-politecnics-2526/
LOCATION:Centre d’Estudis Politècnics
CATEGORIES:Esdeveniments
ATTACH;FMTTYPE=image/jpeg:https://politecnics.barcelona/wp-content/uploads/bg-fundacio.jpg
END:VEVENT
BEGIN:VEVENT
DTSTART;TZID=Europe/Madrid:20250430T090000
DTEND;TZID=Europe/Madrid:20250505T130000
DTSTAMP:20260419T202259
CREATED:20250305T092553Z
LAST-MODIFIED:20250305T092604Z
UID:10958-1746003600-1746450000@politecnics.barcelona
SUMMARY:Tallers de consum: drets i protecció del consumidor
DESCRIPTION:Tallers de consum: drets i protecció del consumidor\nLloc\nEscola de Consum \nGrups\nMARP1B \nObjectiu\nL’objectiu d’aquesta activitat és aprofundir en la protecció dels drets del consumidor\, en relació amb el mòdul 1110 RA 4\, i fomentar una actitud crítica i informada en els processos de compra i contractació de serveis. \nFarem\nA través d’una sèrie de tallers pràctics\, l’alumnat aprendrà sobre els drets dels consumidors\, les estratègies per reclamar en cas de conflicte i les eines disponibles per fer compres segures i responsables. \nEnllaços\nAltres consideracions
URL:https://politecnics.barcelona/agenda/tallers-de-consum-drets-i-proteccio-del-consumidor-2/
LOCATION:Escola de Consum
CATEGORIES:Esdeveniments
ATTACH;FMTTYPE=image/webp:https://politecnics.barcelona/wp-content/uploads/DALL·E-2025-03-05-10.23.20-A-group-of-students-participating-in-a-consumer-rights-workshop-in-a-modern-classroom.-They-are-engaging-in-interactive-activities-discussing-consume.webp
ORGANIZER;CN="Centre d'Estudis Polit%C3%A8cnics":MAILTO:comunicacio@politecnics.barcelona
END:VEVENT
BEGIN:VEVENT
DTSTART;VALUE=DATE:20250502
DTEND;VALUE=DATE:20250503
DTSTAMP:20260419T202259
CREATED:20240920T110023Z
LAST-MODIFIED:20240920T110023Z
UID:9727-1746144000-1746230399@politecnics.barcelona
SUMMARY:Festiu de lliure disposició: 2 de maig
DESCRIPTION:Festius de lliure disposició: Els edificis del Politècnics romandran tancats per lliure disposició els dies: Dijous 31 d’octubre\, divendres 7 de febrer\, dilluns 3 de març i divendres  2 de maig.
URL:https://politecnics.barcelona/agenda/festiu-de-lliure-disposicio-2-de-maig/
LOCATION:Centre Santa Anna / Centre Urquinaona\, C/ Santa Anna\, 28 / Plaça Urquinaona\, 10\, Barcelona\, BARCELONA
CATEGORIES:Esdeveniments
ATTACH;FMTTYPE=image/jpeg:https://politecnics.barcelona/wp-content/uploads/festius-scaled.jpg
ORGANIZER;CN="Centre d'Estudis Polit%C3%A8cnics":MAILTO:comunicacio@politecnics.barcelona
END:VEVENT
BEGIN:VEVENT
DTSTART;TZID=Europe/Madrid:20250505T093000
DTEND;TZID=Europe/Madrid:20250505T123000
DTSTAMP:20260419T202259
CREATED:20250403T165220Z
LAST-MODIFIED:20250403T165323Z
UID:11074-1746437400-1746448200@politecnics.barcelona
SUMMARY:Tallers Escola de consum
DESCRIPTION:Tallers Escola de consum\nLloc\nEscola consum: Pg. de la Zona Franca\, 83\, Sants-Montjuïc\, 08038 Barcelona \nGrups\nACOM1B \nObjectiu\nEducar i formar la ciutadania en el consum responsable\, promoure la transferència del coneixement en matèria de consum\, detectar les necessitats de la ciutadania en matèria de consum i donar visibilitat a les actuacions de l’Agència Catalana de Consum. \nFarem\nTres tallers: Anem de compres? Com sé què compro? Quines regles té el consum? \nEnllaços\nhttps://consum.gencat.cat/ca/lagencia/escola-del-consum-de-catalunya/docencia/eso-batxillerat-i-cicles-formatius/tallers-a-la-seu-de-lecc/ \nAltres consideracions
URL:https://politecnics.barcelona/agenda/tallers-escola-de-consum-7/
LOCATION:Escola Consum:  Pg. de la Zona Franca\, 83\, Sants-Montjuïc\, 08038 Barcelona
CATEGORIES:Esdeveniments
ATTACH;FMTTYPE=image/webp:https://politecnics.barcelona/wp-content/uploads/DALL·E-2025-03-05-10.23.20-A-group-of-students-participating-in-a-consumer-rights-workshop-in-a-modern-classroom.-They-are-engaging-in-interactive-activities-discussing-consume.webp
ORGANIZER;CN="Centre d'Estudis Polit%C3%A8cnics":MAILTO:comunicacio@politecnics.barcelona
END:VEVENT
BEGIN:VEVENT
DTSTART;TZID=Europe/Madrid:20250507T090000
DTEND;TZID=Europe/Madrid:20250507T130000
DTSTAMP:20260419T202259
CREATED:20250305T092841Z
LAST-MODIFIED:20250305T092921Z
UID:10962-1746608400-1746622800@politecnics.barcelona
SUMMARY:Tallers de consum: drets i protecció del consumidor
DESCRIPTION:Tallers de consum: drets i protecció del consumidor\nLloc\nEscola de Consum \nGrups\nMARP1C \nObjectiu\nL’objectiu d’aquesta activitat és aprofundir en la protecció dels drets del consumidor\, en relació amb el mòdul 1110 RA 4\, i fomentar una actitud crítica i informada en els processos de compra i contractació de serveis. \nFarem\nA través d’una sèrie de tallers pràctics\, l’alumnat aprendrà sobre els drets dels consumidors\, les estratègies per reclamar en cas de conflicte i les eines disponibles per fer compres segures i responsables. \nEnllaços\nAltres consideracions
URL:https://politecnics.barcelona/agenda/tallers-de-consum-drets-i-proteccio-del-consumidor-3/
LOCATION:Escola de Consum
CATEGORIES:Esdeveniments
ATTACH;FMTTYPE=image/webp:https://politecnics.barcelona/wp-content/uploads/DALL·E-2025-03-05-10.23.20-A-group-of-students-participating-in-a-consumer-rights-workshop-in-a-modern-classroom.-They-are-engaging-in-interactive-activities-discussing-consume.webp
ORGANIZER;CN="Centre d'Estudis Polit%C3%A8cnics":MAILTO:comunicacio@politecnics.barcelona
END:VEVENT
BEGIN:VEVENT
DTSTART;TZID=Europe/Madrid:20250515T100000
DTEND;TZID=Europe/Madrid:20250515T120000
DTSTAMP:20260419T202259
CREATED:20250503T143858Z
LAST-MODIFIED:20250503T143858Z
UID:11415-1747303200-1747310400@politecnics.barcelona
SUMMARY:Visita Centre Recursos Educatius ONCE
DESCRIPTION:Visita Centre Recursos Educatius ONCE\nLloc\nPolitècnics \nGrups\nEI1A \nObjectiu\nConèixer de primera mà com el CRE ONCE dona suport a la inclusió educativa dels infants amb discapacitat visual\, així com els recursos i metodologies que utilitza per afavorir-ne la normalització dins l’aula. \nFarem\nRebrem la visita d’un equip del Centre de Recursos Educatius de l’ONCE\, que ens explicarà com treballen amb infants amb discapacitat visual. Coneixerem els materials específics que utilitzen\, les adaptacions pedagògiques\, i les funcions dels professionals implicats en l’atenció directa i el suport escolar. \nEnllaços\nhttps://educacion.once.es/cres \nAltres consideracions
URL:https://politecnics.barcelona/agenda/visita-centre-recursos-educatius-once/
LOCATION:Politècnics
CATEGORIES:Esdeveniments
ATTACH;FMTTYPE=image/png:https://politecnics.barcelona/wp-content/uploads/Captura-de-pantalla-2025-05-03-a-las-16.38.31.png
ORGANIZER;CN="Centre d'Estudis Polit%C3%A8cnics":MAILTO:comunicacio@politecnics.barcelona
END:VEVENT
BEGIN:VEVENT
DTSTART;VALUE=DATE:20250523
DTEND;VALUE=DATE:20250530
DTSTAMP:20260419T202259
CREATED:20250518T174435Z
LAST-MODIFIED:20250518T175459Z
UID:11492-1747958400-1748563199@politecnics.barcelona
SUMMARY:Preinscripció al grau mitjà de formació professional
DESCRIPTION:Preinscripció al grau mitjà de formació professional del 23 al 29 de maig 2025 \nEls cicles formatius de grau mitjàpreparen l’alumnat per a l’activitat qualificada en un camp professional. Podreu fer la vostra preinscripció als nostres cicles des d’aquest enllaç. \nLa nostra oferta ofertativa per a graus mitjans és: \n\nCFGM Activitats Comercials (2 línies\, 60 places vacants)\nCFGM Gestió Administrativa (1 línia\, 30 places vacants)\nCFGM Sistemes Microinformàtics i Xarxes (2 línies\, 60 places vacants)\n\nPer tal de poder fer la preinscripció\, necessitareu el nostre codi de centre: 08032208. \nSi teniu qualsevol dubte\, podeu consultar aquest espai o trucar-nos al 93 302 02 24 o al 93 302 41 06.
URL:https://politecnics.barcelona/agenda/preinscripciogm-25-26/
CATEGORIES:Gestió acadèmica
ATTACH;FMTTYPE=image/png:https://politecnics.barcelona/wp-content/uploads/Captura-de-pantalla-2025-05-18-a-les-19.41.09.png
ORGANIZER;CN="Centre d'Estudis Polit%C3%A8cnics":MAILTO:comunicacio@politecnics.barcelona
END:VEVENT
BEGIN:VEVENT
DTSTART;VALUE=DATE:20250523
DTEND;VALUE=DATE:20250530
DTSTAMP:20260419T202259
CREATED:20250518T175937Z
LAST-MODIFIED:20250518T175937Z
UID:11502-1747958400-1748563199@politecnics.barcelona
SUMMARY:Preinscripció al grau superior de formació professional
DESCRIPTION:Preinscripció al grau mitjà de formació professional del 23 al 29 de maig 2025 \nEls cicles formatius de grau superior preparen l’alumnat per a l’activitat qualificada en un camp professional. Podreu fer la vostra preinscripció als nostres cicles des d’aquest enllaç. \nLa nostra oferta ofertativa per a graus mitjans és: \n\nCFGS Administració i Finances (1 línia\, 30 places vacants)\nCFGS Desenvolupament d’Aplicacions Multiplataforma (1 línia\, 30 places vacants)\nCFGS Desenvolupament d’Aplicacions Web (1 línia\, 30 places vacants)\nCFGS Educació Infantil (1 línia\, 30 places vacants)\nCFGS Comerç Internacional (1 línia\, 30 places vacants)\nCFGS Transport i Logística (1 línia\, 30 places vacants)\nCFGS Màrqueting i Publicitat (3 línies\, 90 places vacants)\n\nPer tal de poder fer la preinscripció\, necessitareu el nostre codi de centre: 08032208. \nSi teniu qualsevol dubte\, podeu consultar aquest espai o trucar-nos al 93 302 02 24 o al 93 302 41 06.
URL:https://politecnics.barcelona/agenda/preinscripcio-al-grau-superior-de-formacio-professional-2/
CATEGORIES:Gestió acadèmica
ATTACH;FMTTYPE=image/png:https://politecnics.barcelona/wp-content/uploads/Captura-de-pantalla-2025-05-18-a-les-19.41.09.png
ORGANIZER;CN="Centre d'Estudis Polit%C3%A8cnics":MAILTO:comunicacio@politecnics.barcelona
END:VEVENT
BEGIN:VEVENT
DTSTART;VALUE=DATE:20250526
DTEND;VALUE=DATE:20250531
DTSTAMP:20260419T202259
CREATED:20250526T164206Z
LAST-MODIFIED:20250526T165247Z
UID:11547-1748217600-1748649599@politecnics.barcelona
SUMMARY:La fira It’s My Turn by Politècnics 2025
DESCRIPTION:La fira It’s My Turn by Politècnics 2025\nLloc\nCentre d’Estudis Politècnics \nGrups\nTots els grups \nObjectiu\nCrear un espai de connexió entre l’alumnat dels cicles formatius i el món professional\, afavorint el contacte amb empreses que busquen incorporar nou talent. \nFarem\nDurant cinc jornades\, l’alumnat dels cicles d’Informàtica\, Comerç i Màrqueting\, Educació Infantil i Administració i Gestió participarà en activitats com networking\, tallers professionals\, ponències i diversos FPro Challenges\, orientats a ferel salt al món laboral i promoure les competències professionals en un entorn real i participatiu. \nEnllaços\nhttps://sites.google.com/politecnics.barcelona/its-myturn-25/imt25 \nAltres consideracions
URL:https://politecnics.barcelona/agenda/la-fira-its-my-turn-by-politecnics-2025/
LOCATION:Centre d’Estudis Politècnics
CATEGORIES:Esdeveniments
ATTACH;FMTTYPE=image/png:https://politecnics.barcelona/wp-content/uploads/CARTELL-IMT-25-HORITZONTAL-2.png
ORGANIZER;CN="Centre d'Estudis Polit%C3%A8cnics":MAILTO:comunicacio@politecnics.barcelona
END:VEVENT
END:VCALENDAR