BEGIN:VCALENDAR
VERSION:2.0
PRODID:-//Centre d&#039;Estudis Politècnics - ECPv6.3.3.1//NONSGML v1.0//EN
CALSCALE:GREGORIAN
METHOD:PUBLISH
X-WR-CALNAME:Centre d&#039;Estudis Politècnics
X-ORIGINAL-URL:https://politecnics.barcelona/es/
X-WR-CALDESC:Eventos para Centre d&#039;Estudis Politècnics
REFRESH-INTERVAL;VALUE=DURATION:PT1H
X-Robots-Tag:noindex
X-PUBLISHED-TTL:PT1H
BEGIN:VTIMEZONE
TZID:Europe/Madrid
BEGIN:DAYLIGHT
TZOFFSETFROM:+0100
TZOFFSETTO:+0200
TZNAME:CEST
DTSTART:20250330T010000
END:DAYLIGHT
BEGIN:STANDARD
TZOFFSETFROM:+0200
TZOFFSETTO:+0100
TZNAME:CET
DTSTART:20251026T010000
END:STANDARD
END:VTIMEZONE
BEGIN:VEVENT
DTSTART;VALUE=DATE:20250912
DTEND;VALUE=DATE:20250913
DTSTAMP:20260425T191347
CREATED:20250902T102905Z
LAST-MODIFIED:20250902T102905Z
UID:11704-1757635200-1757721599@politecnics.barcelona
SUMMARY:Inicio del curso 2025-26
DESCRIPTION:El próximo curso académico tendrá su inicio el día 12 de septiembre. Así pues\, os esperaremos para daros la bienvenida y compartir con vosotros los detalles importantes sobre la organización y la distribución de los ciclos formativos. \nCentro Calle Santa Anna (c. Santa Anna\, 28) \n\nGrado Medio Actividades Comerciales\nGrado Superior Marketing y Publicidad\nGrado Superior Comercio Internacional\nGrado Superior Transporte y Logística\nGrado Superior de Educación Infantil\n\nCentro Urquinaona (Plaza Urquinaona\, 10) \n\nGrado Medio Gestión Administrativa\nGrado Superior Administración y Finanzas\nGrado Medio Sistemas Microinformáticos y Redes\nGrado Superior Desarrollo Aplicaciones Web\nGrado Superior Desarrollo Aplicaciones Multiplataforma\n\nPuedes consultar los horarios de cada grupo aquí . Si no sabes si perteneces al grupo A\, B o C\, no te preocupes\, te informaremos allí mismo.  \nDeseamos que este nuevo curso esté lleno de descubrimientos\, retos emocionantes y éxitos personales. \n¡Tu talento\, nuestro compromiso!
URL:https://politecnics.barcelona/es/agenda/inicio-del-curso-2025-26/
CATEGORIES:Eventos
ATTACH;FMTTYPE=image/jpeg:https://politecnics.barcelona/wp-content/uploads/centre-estudis-politecnics-04-1-1.jpg
ORGANIZER;CN="Centre d'Estudis Polit%C3%A8cnics":MAILTO:comunicacio@politecnics.barcelona
END:VEVENT
BEGIN:VEVENT
DTSTART;TZID=Europe/Madrid:20250915T084000
DTEND;TZID=Europe/Madrid:20250916T140000
DTSTAMP:20260425T191347
CREATED:20250917T071304Z
LAST-MODIFIED:20250917T071611Z
UID:11766-1757925600-1758031200@politecnics.barcelona
SUMMARY:Acogida en el Politécnicos
DESCRIPTION:Acogida en el Politécnicos\nUbicación\nAulas de Sta. Anna \nGrupos\nCINT1A\, MARP1A\, MARP1B\, MARP1C \nObjetivo\nAdentrarse en la metodología de trabajo de los Politécnicos y conocer a los compañeros/as \nHaremos\nDurante estos dos días el alumnado de CINT/TIL1 y MARP1 trabajará para saber cómo se trabajará a lo largo del curso y realizará dinámicas para conocer al alumnado de los diferentes grupos \nEnlaces\nOtras consideraciones
URL:https://politecnics.barcelona/es/agenda/acogida-en-el-politecnicos/
LOCATION:Aules de Sta. Anna
CATEGORIES:Eventos
ATTACH;FMTTYPE=image/png:https://politecnics.barcelona/wp-content/uploads/u6121215764_Imatge_realista_dun_esdeveniment_de_dos_dies_en_u_ec37961f-4636-413d-959f-7125a0ffba50_3.png
ORGANIZER;CN="c_brgvl73eel0af0uv3mcl0bi3u8@group.calendar.google.com":MAILTO:c_brgvl73eel0af0uv3mcl0bi3u8@group.calendar.google.com
END:VEVENT
BEGIN:VEVENT
DTSTART;TZID=Europe/Madrid:20250917T084000
DTEND;TZID=Europe/Madrid:20250919T140000
DTSTAMP:20260425T191347
CREATED:20250917T073842Z
LAST-MODIFIED:20250917T073842Z
UID:11772-1758098400-1758290400@politecnics.barcelona
SUMMARY:Politécnicos Challenge - Idea Generation Week
DESCRIPTION:Politécnicos Challenge – Idea Generation Week\nUbicación\nAulas 31\, 32 y 33 de Sta. Anna \nGrupos\nMARP1A\, MARP1B\, MARP1C \nObjetivo\nPolitécnicos Challenge \nHaremos\nTrabajar a través del método Lombard la generación de ideas de negocio basadas en ODS \nEnlaces\nOtras consideraciones
URL:https://politecnics.barcelona/es/agenda/politecnicos-challenge-idea-generation-week/
LOCATION:Aules 31\, 32 i 33 de Sta. Anna
CATEGORIES:Eventos
ATTACH;FMTTYPE=image/jpeg:https://politecnics.barcelona/wp-content/uploads/Challenge.jpg
ORGANIZER;CN="Centre d'Estudis Polit%C3%A8cnics":MAILTO:comunicacio@politecnics.barcelona
END:VEVENT
BEGIN:VEVENT
DTSTART;VALUE=DATE:20250920
DTEND;VALUE=DATE:20250921
DTSTAMP:20260425T191347
CREATED:20250913T183138Z
LAST-MODIFIED:20250913T183138Z
UID:11746-1758326400-1758412799@politecnics.barcelona
SUMMARY:Women in Fabric – Barcelona 2025
DESCRIPTION:En el Centro de Estudios Politècnics volvemos a ser punto de encuentro de referencia para las comunidades técnicas de Barcelona . Después de haber acogido eventos como la Netcoreconf Barcelona y los Power BI Days Barcelona \, ​​abrimos de nuevo las puertas para una jornada muy especial: Women in Fabric – Barcelona 2025 .  \nUn evento 100% presencial para celebrar\, compartir e impulsar el talento femenino en el ecosistema de Microsoft Fabric. \nDurante esta jornada encontrarás: \n\n\n3 tracks de contenido técnico: principiante\, intermedio y avanzado \n\n\nSesiones de mentoring en vivo \, próximas y participativas \n\n\nEspacios de networking y charlas inspiradoras lideradas por mujeres de la comunidad \n\n\nUn punto de encuentro abierto a personas de todos los niveles —desde quien comienza hasta perfiles más senior— con un objetivo común: compartir\, aprender y crecer juntas . \nAunque las entradas ya están agotadas\, si te interesa asistir contacta con tu tutoría.
URL:https://politecnics.barcelona/es/agenda/women-in-fabric-barcelona-2025/
LOCATION:Centre d’Estudis Politècnics. Plaça Urquinona\, 10 Barcelona
CATEGORIES:Eventos
ATTACH;FMTTYPE=image/jpeg:https://politecnics.barcelona/wp-content/uploads/Women-in-Fabric-0.jpeg
ORGANIZER;CN="Centre d'Estudis Polit%C3%A8cnics":MAILTO:comunicacio@politecnics.barcelona
END:VEVENT
BEGIN:VEVENT
DTSTART;TZID=Europe/Madrid:20250923T093000
DTEND;TZID=Europe/Madrid:20250923T133000
DTSTAMP:20260425T191347
CREATED:20250921T105025Z
LAST-MODIFIED:20250921T105129Z
UID:11789-1758619800-1758634200@politecnics.barcelona
SUMMARY:En busca de información
DESCRIPTION:En busca de información\nUbicación\nBiblioteca Sagrada Familia \nGrupos\nACOM2A\, ACOM2B \nObjetivo\nDescubrir recursos y fuentes de información analógicos y digitales para obtener datos relevantes\, fiables y contrastables para los proyectos de Actividades Comerciales.\nSaber poner en valor la autoría de la información utilizada para un proyecto y cómo citarla en el informe final. \nHaremos\nSesión informativa sobre la red de bibliotecas de Barcelona y los recursos que ofrecen a las personas usuarias\, con un enfoque hacia las necesidades del alumnado de Actividades Comerciales. Además aprenderemos a poner en valor la autoría de las informaciones (artículos\, libros\, etc.) y cómo deben citarse en un proyecto.\n Esta sesión se complementa con una actividad de descubrimiento de la red comercial de la zona de la Sagrada Família.  \nEnlaces\nOtras consideraciones
URL:https://politecnics.barcelona/es/agenda/en-busca-de-informacion/
LOCATION:Biblioteca Sagrada Família
CATEGORIES:Eventos
ATTACH;FMTTYPE=image/jpeg:https://politecnics.barcelona/wp-content/uploads/Biblio-Sagrada-Familia.jpg
ORGANIZER;CN="Centre d'Estudis Polit%C3%A8cnics":MAILTO:comunicacio@politecnics.barcelona
END:VEVENT
BEGIN:VEVENT
DTSTART;VALUE=DATE:20250924
DTEND;VALUE=DATE:20250925
DTSTAMP:20260425T191347
CREATED:20250913T163621Z
LAST-MODIFIED:20250913T163621Z
UID:11729-1758672000-1758758399@politecnics.barcelona
SUMMARY:Festivo local: La Mercè.
DESCRIPTION:Festivo local: La Mercè. Los edificios del Politècnics permanecerán cerrados durante toda la jornada.
URL:https://politecnics.barcelona/es/agenda/festivo-local-la-merce-3/
LOCATION:Centre d’Estudis Politècnics: Urquinaona\, Pl. d’Urquinaona\, 10\, 08010 Barcelona\, Espanya
CATEGORIES:Eventos
ATTACH;FMTTYPE=image/jpeg:https://politecnics.barcelona/wp-content/uploads/festius-scaled.jpg
END:VEVENT
BEGIN:VEVENT
DTSTART;TZID=Europe/Madrid:20250925T100000
DTEND;TZID=Europe/Madrid:20250925T120000
DTSTAMP:20260425T191347
CREATED:20250921T110400Z
LAST-MODIFIED:20250921T110400Z
UID:11796-1758794400-1758801600@politecnics.barcelona
SUMMARY:Visita La Semana del Libro en Catalán
DESCRIPTION:Visita La Semana del Libro en Catalán\nUbicación\nPaseo Lluís Companys \nGrupos\nEI1A \nObjetivo\nConocer libros infantiles en catalán de editoriales diversas.\nDesarrollar criterios para seleccionar libros adecuados para 0-6 años.\nRelacionar la literatura con la práctica educativa.\nFomentar el trabajo en equipo y la reflexión crítica. \nHaremos\nVisitaremos los stands de la feria para identificar interesantes recursos para práctica educativa. \nEnlaces\n\nLa Setmana \n\nOtras consideraciones
URL:https://politecnics.barcelona/es/agenda/visita-la-semana-del-libro-en-catalan/
LOCATION:Passeig Lluís Companys
CATEGORIES:Eventos
ATTACH;FMTTYPE=image/jpeg:https://politecnics.barcelona/wp-content/uploads/Setmana-del-llibre.jpg
ORGANIZER;CN="Centre d'Estudis Polit%C3%A8cnics":MAILTO:comunicacio@politecnics.barcelona
END:VEVENT
BEGIN:VEVENT
DTSTART;TZID=Europe/Madrid:20250926T104000
DTEND;TZID=Europe/Madrid:20250926T130000
DTSTAMP:20260425T191347
CREATED:20250921T111211Z
LAST-MODIFIED:20250921T111211Z
UID:11801-1758883200-1758891600@politecnics.barcelona
SUMMARY:Retail tour en el barrio del Born
DESCRIPTION:Retail tour en el barrio del Born\nUbicación\nCentre d’Estudis Politècnics\, sede de Santa Anna \nGrupos\nACOM2A\, ACOM2B \nObjetivo\nIdentificar y valorar cómo se distribuyen los espacios comerciales\, cómo se gestiona la circulación\, qué criterios se aplican en la colocación del mobiliario y de los productos\, y qué normas de accesibilidad y seguridad se cumplen. \nHaremos\nEn esta actividad el alumnado se convierte en consultor/a de retail y retail designer y observa y analiza los establecimientos comerciales de la zona.\nEsta actividad le permite realizar una aproximación a establecimientos reales y podrá ver cómo se aplican todos los aspectos del diseño de superficies comerciales. \nEnlaces\nOtras consideraciones
URL:https://politecnics.barcelona/es/agenda/retail-tour-en-el-barrio-del-born/
LOCATION:Centre d’Estudis Politècnics\, seu de Santa Anna
CATEGORIES:Eventos
ATTACH;FMTTYPE=image/jpeg:https://politecnics.barcelona/wp-content/uploads/retail-tour.jpg
ORGANIZER;CN="Centre d'Estudis Polit%C3%A8cnics":MAILTO:comunicacio@politecnics.barcelona
END:VEVENT
BEGIN:VEVENT
DTSTART;TZID=Europe/Madrid:20250929T183000
DTEND;TZID=Europe/Madrid:20250929T203000
DTSTAMP:20260425T191347
CREATED:20250930T102706Z
LAST-MODIFIED:20250930T103712Z
UID:11830-1759170600-1759177800@politecnics.barcelona
SUMMARY:Taller perfumes nicho y Storytelling de marca
DESCRIPTION:Taller perfumes nicho y Storytelling de marca\nUbicación\nSanta Ana\, 28 \nGrupos\nMARP2A\, MARP2B\, MARP2C \nObjetivo\nExplorar el universo de los perfumes nicho como laboratorio de creatividad y marketing\, entendiendo su poder narrativo y la construcción de marca más allá del producto.\nAplicar herramientas de storytelling y branding en un sector altamente sensorial.\nFomentar la creatividad y el trabajo en equipo en contextos reales de marketing. \nHaremos\nParte 1: Explicación teórica sobre qué es un perfume nicho\, el concepto storytelling como valor clave y la dinámica de las marcas nicho.\nParte 2: cada equipo creará una marca de perfume nicho con nombre\, identidad y storytelling propio y presentará su propuesta al resto del grupo clase. \nEnlaces\nOtras consideraciones
URL:https://politecnics.barcelona/es/agenda/taller-perfumes-nicho-y-storytelling-de-marca/
LOCATION:Santa Anna\, 28
CATEGORIES:Eventos
ATTACH;FMTTYPE=image/jpeg:https://politecnics.barcelona/wp-content/uploads/taller-perfums.jpg
ORGANIZER;CN="Centre d'Estudis Polit%C3%A8cnics":MAILTO:comunicacio@politecnics.barcelona
END:VEVENT
END:VCALENDAR