BEGIN:VCALENDAR
VERSION:2.0
PRODID:-//Centre d&#039;Estudis Politècnics - ECPv6.3.3.1//NONSGML v1.0//EN
CALSCALE:GREGORIAN
METHOD:PUBLISH
X-WR-CALNAME:Centre d&#039;Estudis Politècnics
X-ORIGINAL-URL:https://politecnics.barcelona/es/
X-WR-CALDESC:Eventos para Centre d&#039;Estudis Politècnics
REFRESH-INTERVAL;VALUE=DURATION:PT1H
X-Robots-Tag:noindex
X-PUBLISHED-TTL:PT1H
BEGIN:VTIMEZONE
TZID:Europe/Madrid
BEGIN:DAYLIGHT
TZOFFSETFROM:+0100
TZOFFSETTO:+0200
TZNAME:CEST
DTSTART:20250330T010000
END:DAYLIGHT
BEGIN:STANDARD
TZOFFSETFROM:+0200
TZOFFSETTO:+0100
TZNAME:CET
DTSTART:20251026T010000
END:STANDARD
END:VTIMEZONE
BEGIN:VEVENT
DTSTART;TZID=Europe/Madrid:20251017T110000
DTEND;TZID=Europe/Madrid:20251017T130000
DTSTAMP:20260424T124253
CREATED:20251020T075728Z
LAST-MODIFIED:20251020T075728Z
UID:11991-1760698800-1760706000@politecnics.barcelona
SUMMARY:Ruta por los Escaparates Artísticos del Gótico
DESCRIPTION:Ruta por los Escaparates Artísticos del Gótico\nUbicación\nCentro de Estudios Politécnicos – Santa Anna \nGrupos\nACOM2A\, ACOM2B \nObjetivo\nDescubrir y poner en valor el tejido comercial del barrio Gòtic y acercar el mundo de las artes a la ciudadanía a través de los escaparates como espacios de expresión artística y cultural. \nHaremos\nEn esta cuarta edición de la iniciativa “Escaparates Artísticos” \, hasta 40 tiendas del eje comercial Barnacentre muestran en sus escaparates propuestas creadas específicamente por artistas \, tanto emergentes como consolidados\, provenientes de disciplinas diversas: artes visuales\, escénicas\, cine o literatura . \nLa actividad busca potenciar el papel de los escaparates como espacios de conexión con la ciudadanía \, acercar el arte al público fuera de los circuitos convencionales y dinamizar las visitas al centro y comercios del barrio. \nLos escaparates intervenidos se pueden recorrer en formato de ruta \, paseando por las calles más emblemáticas del Gòtic\, como la calle de Petritxol\, de los Baños Nuevos\, de la Paja o del Pi \, entre otros. \nEnlaces\nhttps://ajuntament.barcelona.cat/ciutatvella/ca/noticies/en-marxa-la-quarta-edicio-del-projecte-aparadors-artistics-1557203?utm_content=C6981-I5&utm_source=ecoms&utm_medium=email&utm_term=2%20noticias%20verticales-contingut \nOtras consideraciones
URL:https://politecnics.barcelona/es/agenda/ruta-por-los-escaparates-artisticos-del-gotico/
LOCATION:Centre d’Estudis Politècnics Santa Anna
CATEGORIES:Eventos
ATTACH;FMTTYPE=image/png:https://politecnics.barcelona/wp-content/uploads/u6121215764_art-filled_shop_windows_in_the_Gothic_Quarter_of__1d14f559-7799-422f-9e9a-18540e78c21a_2.png
ORGANIZER;CN="Centre d'Estudis Polit%C3%A8cnics":MAILTO:comunicacio@politecnics.barcelona
END:VEVENT
BEGIN:VEVENT
DTSTART;TZID=Europe/Madrid:20251017T110000
DTEND;TZID=Europe/Madrid:20251017T140000
DTSTAMP:20260424T124253
CREATED:20251003T080431Z
LAST-MODIFIED:20251021T171735Z
UID:11909-1760698800-1760709600@politecnics.barcelona
SUMMARY:Mercat de Mercats con 1.º de Marketing y Publicitat
DESCRIPTION:Mercat de Mercats con 1.º de Marketing y Publicitat\nUbicación\nPlaza de las Glòries \nGrupos\nMARP1A\, MARP1B\, MARP1C \nObjetivo\nRealizar una prospección y análisis sobre cómo se utilizan las herramientas de comunicación tradicionales y digitales en un evento real\, identificando estrategias\, canales y recursos visuales aplicados al marketing. \nHaremos\nAsistiremos a la Feria Mercat de Mercats\, donde el alumnado observará y analizará las acciones de comunicación\, publicidad y marketing que se llevan a cabo\, tanto de forma presencial como a través de los medios digitales y las redes sociales. \nLa actividad permitirá poner en práctica la capacidad de análisis y reflexión sobre la comunicación aplicada al comercio y a los eventos. \nEnlaces\nOtras consideraciones
URL:https://politecnics.barcelona/es/agenda/mercat-de-mercats/
LOCATION:Plaça de les Glòries
CATEGORIES:Eventos
ATTACH;FMTTYPE=image/jpeg:https://politecnics.barcelona/wp-content/uploads/Mercat-de-mercats.jpg
ORGANIZER;CN="Centre d'Estudis Polit%C3%A8cnics":MAILTO:comunicacio@politecnics.barcelona
END:VEVENT
BEGIN:VEVENT
DTSTART;TZID=Europe/Madrid:20251017T110000
DTEND;TZID=Europe/Madrid:20251017T140000
DTSTAMP:20260424T124253
CREATED:20251020T080926Z
LAST-MODIFIED:20251020T080926Z
UID:11992-1760698800-1760709600@politecnics.barcelona
SUMMARY:Mercado de Mercados con Comercio Internacional y Transporte y Logística
DESCRIPTION:Mercado de Mercados con Comercio Internacional y Transporte y Logística\nUbicación\nSalida desde el Centro de Estudios Politécnicos a las 11 h \nGrupos\nCINT1A\, TIL1A \nObjetivo\nTrabajar los resultados de aprendizaje (RAs) vinculados a varios módulos\, como Introducción al Comercio Internacional \, Gestión Financiera y Transporte y Logística \, conectando la teoría con una experiencia real de análisis comercial. \nHaremos\nEl alumnado visitará la Feria Mercado de Mercados para llevar a cabo una actividad práctica de análisis sobre los productos que se ofrecen: procedencia\, sostenibilidad (ODS)\, cálculo de posibles beneficios y gastos de los puestos \, y otros aspectos relacionados con la gestión comercial y logística. \nEsta actividad permitirá observar la aplicación real de los conceptos económicos\, comerciales y logísticos en un entorno profesional vivo y dinámico. \nEnlaces\nhttps://www.barcelona.cat/mercatdemercats/ca?&utm_source=SEM&utm_medium=paid-Cercadors&utm_content=Text&utm_term=Text&utm_campaign=MercatMercats&adfcd=1764226926.6PF76tPc3k2TCHhEZcTqfQ.MzgyMDM4NSwxNzA2MzAz&gad_source=1&gad_campaignid=23060266461&gbraid=0AAAABBfKIQNQez8ypyW4NkGOb0vnaR7rh&gclid=Cj0KCQjw6bfHBhDNARIsAIGsqLjJaPgGr6wTVEWzk_8_pjMPBI6UMW5dYtzijZEnOwFzPCtdReS2-3waAndrEALw_wcB \nOtras consideraciones
URL:https://politecnics.barcelona/es/agenda/mercado-de-mercados-con-comercio-internacional-y-transporte-y-logistica/
LOCATION:Politècnics-Santa Anna
CATEGORIES:Eventos
ATTACH;FMTTYPE=image/jpeg:https://politecnics.barcelona/wp-content/uploads/Mercat-de-mercats.jpg
ORGANIZER;CN="Centre d'Estudis Polit%C3%A8cnics":MAILTO:comunicacio@politecnics.barcelona
END:VEVENT
BEGIN:VEVENT
DTSTART;TZID=Europe/Madrid:20251017T113000
DTEND;TZID=Europe/Madrid:20251017T133000
DTSTAMP:20260424T124253
CREATED:20251013T094938Z
LAST-MODIFIED:20251013T095025Z
UID:11955-1760700600-1760707800@politecnics.barcelona
SUMMARY:Mercado de Mercados con Actividades Comerciales
DESCRIPTION:Mercado de Mercados con Actividades Comerciales\nUbicación\nPolitécnicos-Santa Anna \nGrupos\nACOM1A\, ACOM1B \nObjetivo\nAcercar al alumnado a la realidad y actualidad del comercio minorista \, poniendo especial atención en los mercados municipales de Barcelona como ejemplo de proximidad\, sostenibilidad y dinamismo económico. \nHaremos\nVisitaremos la Feria Mercado de Mercados para conocer de cerca la oferta de productos de los mercados de la ciudad\, el perfil de los trabajadores y trabajadoras \, y la implementación de la normativa de riesgos laborales .También observaremos las acciones de comunicación utilizadas\, tanto online como en medios tradicionales\, y el uso del catalán como lengua vehicular de los mercados. \nEnlaces\nhttps://www.barcelona.cat/mercatdemercats/ca \nOtras consideraciones
URL:https://politecnics.barcelona/es/agenda/mercado-de-mercados-con-actividades-comerciales/
LOCATION:Politècnics-Santa Anna
CATEGORIES:Eventos
ATTACH;FMTTYPE=image/jpeg:https://politecnics.barcelona/wp-content/uploads/Mercat-de-mercats.jpg
ORGANIZER;CN="Centre d'Estudis Polit%C3%A8cnics":MAILTO:comunicacio@politecnics.barcelona
END:VEVENT
BEGIN:VEVENT
DTSTART;TZID=Europe/Madrid:20251017T153000
DTEND;TZID=Europe/Madrid:20251017T180000
DTSTAMP:20260424T124253
CREATED:20251013T095356Z
LAST-MODIFIED:20251013T095356Z
UID:11986-1760715000-1760724000@politecnics.barcelona
SUMMARY:Mercado de Mercados con 2º Marketing y Publicidad
DESCRIPTION:Mercado de Mercados con 2º Marketing y Publicidad\nUbicación\nPlaza de las Glòries \nGrupos\nMARP2A\, MARP2B\, MARP2C \nObjetivo\nConocer y analizar los elementos propios de una feria y estudiar su comunicación externa \, observando cómo las marcas y expositores transmiten sus valores y productos al público. \nHaremos\nParticiparemos en la Feria Mercado de Mercados para observar y analizar tanto la organización y espacios expositivos como las estrategias de comunicación y promoción utilizadas.Esta actividad permitirá al alumnado reflexionar sobre la importancia de la imagen\, el mensaje y la coherencia en la comunicación de eventos comerciales. \nEnlaces\nhttps://www.barcelona.cat/mercatdemercats/ca \nOtras consideraciones
URL:https://politecnics.barcelona/es/agenda/mercado-de-mercados-con-2o-marketing-y-publicidad/
LOCATION:Plaça de les Glòries
CATEGORIES:Eventos
ATTACH;FMTTYPE=image/jpeg:https://politecnics.barcelona/wp-content/uploads/Mercat-de-mercats.jpg
ORGANIZER;CN="Centre d'Estudis Polit%C3%A8cnics":MAILTO:comunicacio@politecnics.barcelona
END:VEVENT
END:VCALENDAR