BEGIN:VCALENDAR
VERSION:2.0
PRODID:-//Centre d&#039;Estudis Politècnics - ECPv6.3.3.1//NONSGML v1.0//EN
CALSCALE:GREGORIAN
METHOD:PUBLISH
X-WR-CALNAME:Centre d&#039;Estudis Politècnics
X-ORIGINAL-URL:https://politecnics.barcelona/es/
X-WR-CALDESC:Eventos para Centre d&#039;Estudis Politècnics
REFRESH-INTERVAL;VALUE=DURATION:PT1H
X-Robots-Tag:noindex
X-PUBLISHED-TTL:PT1H
BEGIN:VTIMEZONE
TZID:Europe/Madrid
BEGIN:DAYLIGHT
TZOFFSETFROM:+0100
TZOFFSETTO:+0200
TZNAME:CEST
DTSTART:20250330T010000
END:DAYLIGHT
BEGIN:STANDARD
TZOFFSETFROM:+0200
TZOFFSETTO:+0100
TZNAME:CET
DTSTART:20251026T010000
END:STANDARD
END:VTIMEZONE
BEGIN:VEVENT
DTSTART;TZID=Europe/Madrid:20251120T093000
DTEND;TZID=Europe/Madrid:20251121T130000
DTSTAMP:20260421T102246
CREATED:20251117T093446Z
LAST-MODIFIED:20251117T093618Z
UID:12211-1763631000-1763730000@politecnics.barcelona
SUMMARY:Visita a la Sede de Lidl España
DESCRIPTION:Visita a la Sede de Lidl España\nUbicación\nOficinas Centrales de Lidl España – Montcada i Reixac \nGrupos\n1º de Marketing y Publicidad A\, B y C \nObjetivo\nConocer de primera mano a la empresa que ha encargado el proyecto que está desarrollando el alumnado de 1º de Marketing y Publicidad\, descubrir el funcionamiento del departamento de marketing de Lidl e informarse sobre las oportunidades de FP Dual que ofrecen. \nHaremos\nVisitamos las Oficinas Centrales de Lidl España para participar en una jornada corporativa pensada exclusivamente para nuestro alumnado: \n\n\n09.30 h – Recepción\, acceso al auditorio y pequeño desayuno. \n\n\n10:00 h – Presentación corporativa de Lidl + espacio de preguntas sobre FP Dual. \n\n\n10.45 h – Taller práctico: Marketing y E-commerce + resolución de dudas. \n\n\n12.30 h – Almuerzo en las instalaciones. \n\n\n13.00 h – Cierre entre el equipo docente y el equipo Lidl. \n\n\nUna oportunidad para descubrir cómo trabaja una marca líder \, entender sus procesos y conectar el aprendizaje del aula con la realidad del sector. \nEnlaces\nhttps://www.google.com/maps/dir/41.3855642\,2.1719875/Pol.+Ind.+La+Granja\,+Carrer+del+Beat+Oriol\,+s%2Fn\,+08110+Montcada+i+Reixac\,+Barcelona/@41.4828125\,2.1679139\,14.25z/data=!4m10!4m9!1m1!4e1!1m5!1m1!1s0x12a4bdc5219086ab:0x2e71381c494ee693!2m2!1d2.1733577!2d41.4918403!3e3?entry=ttu&g_ep=EgoyMDI1MTExMC4wIKXMDSoASAFQAw%3D%3D \nOtras consideraciones
URL:https://politecnics.barcelona/es/agenda/visita-a-la-sede-de-lidl-espana/
LOCATION:Oficines Centrals Lidl Espanya
CATEGORIES:Eventos
ATTACH;FMTTYPE=image/jpeg:https://politecnics.barcelona/wp-content/uploads/WhatsApp-Image-2024-11-03-at-19.23.02-e1730658318870.jpeg
ORGANIZER;CN="Centre d'Estudis Polit%C3%A8cnics":MAILTO:comunicacio@politecnics.barcelona
END:VEVENT
BEGIN:VEVENT
DTSTART;TZID=Europe/Madrid:20251120T151000
DTEND;TZID=Europe/Madrid:20251120T161000
DTSTAMP:20260421T102246
CREATED:20251103T093658Z
LAST-MODIFIED:20251103T093748Z
UID:12059-1763651400-1763655000@politecnics.barcelona
SUMMARY:Charla a cargo de Sergi Portolés – exalumno
DESCRIPTION:Charla a cargo de Sergi Portolés – exalumno\nUbicación\nCentro de Estudios Politécnicos · Urquinaona · Aula 1.4 \nGrupos\n2ª de Administración y Finanzas \nObjetivo\nDar a conocer los aspectos clave de la facturación entre autónomos y sociedades \, presentar el nuevo sistema de facturación Veri*Factu y reflexionar sobre cómo la inteligencia artificial está transformando los procesos administrativos y de gestión en las pymes. \nHaremos\nAsistimos a una charla de Sergi Portolés \, exalumno del centro y actual gestor en Geslem . Durante la sesión\, Sergi nos explicará de forma práctica: \n\n\nLas diferencias y relaciones de facturación entre autónomos y sociedades. \n\n\nEl funcionamiento y las novedades del sistema Veri*Factu . \n\n\nCómo la inteligencia artificial incide actualmente en la gestión de las pymes\, con ejemplos reales y aplicaciones concretas . \n\n\nLa charla combinará una parte informativa y demostrativa con espacio para preguntas y resolución de dudas . \nEnlaces\nWeb de la Gestoría que regenta \nOtras consideraciones\n 
URL:https://politecnics.barcelona/es/agenda/charla-a-cargo-de-sergi-portoles-exalumno/
LOCATION:Centre d’Estudis Politècnics. Aula 1.4
CATEGORIES:Eventos
ATTACH;FMTTYPE=image/png:https://politecnics.barcelona/wp-content/uploads/u6121215764_vocational_education_students_attending_a_busines_fd35cf4a-ca7f-4de2-a714-069ff837c10b_3.png
ORGANIZER;CN="Centre d'Estudis Polit%C3%A8cnics":MAILTO:comunicacio@politecnics.barcelona
END:VEVENT
END:VCALENDAR