BEGIN:VCALENDAR
VERSION:2.0
PRODID:-//Centre d&#039;Estudis Politècnics - ECPv6.3.3.1//NONSGML v1.0//EN
CALSCALE:GREGORIAN
METHOD:PUBLISH
X-WR-CALNAME:Centre d&#039;Estudis Politècnics
X-ORIGINAL-URL:https://politecnics.barcelona/es/
X-WR-CALDESC:Eventos para Centre d&#039;Estudis Politècnics
REFRESH-INTERVAL;VALUE=DURATION:PT1H
X-Robots-Tag:noindex
X-PUBLISHED-TTL:PT1H
BEGIN:VTIMEZONE
TZID:Europe/Madrid
BEGIN:DAYLIGHT
TZOFFSETFROM:+0100
TZOFFSETTO:+0200
TZNAME:CEST
DTSTART:20240331T010000
END:DAYLIGHT
BEGIN:STANDARD
TZOFFSETFROM:+0200
TZOFFSETTO:+0100
TZNAME:CET
DTSTART:20241027T010000
END:STANDARD
END:VTIMEZONE
BEGIN:VEVENT
DTSTART;TZID=Europe/Madrid:20240423T093000
DTEND;TZID=Europe/Madrid:20240423T120000
DTSTAMP:20260425T025749
CREATED:20240421T144624Z
LAST-MODIFIED:20240421T150634Z
UID:9520-1713864600-1713873600@politecnics.barcelona
SUMMARY:Exposiciones públicas
DESCRIPTION:Exposiciones públicas\nUbicación\nCentro Cívico de Urgell \nGrupos\nSMIX1A\, SMIX1B\, SMIX2A\, SMIX2B \nObjetivo\nLos equipos de trabajo presentarán sus proyectos para Labdoo \nHaremos\nPresentaciones públicas de los proyectos \nEnlaces\n\nPàgina d’inici \n\nOtras consideraciones
URL:https://politecnics.barcelona/es/agenda/exposiciones-publicas/
LOCATION:Centre Cívic d’Urgell
CATEGORIES:Eventos
ATTACH;FMTTYPE=image/png:https://politecnics.barcelona/wp-content/uploads/Captura-de-pantalla-2024-04-21-a-las-16.45.44.png
ORGANIZER;CN="Centre d'Estudis Polit%C3%A8cnics":MAILTO:comunicacio@politecnics.barcelona
END:VEVENT
END:VCALENDAR