BEGIN:VCALENDAR
VERSION:2.0
PRODID:-//Centre d&#039;Estudis Politècnics - ECPv6.3.3.1//NONSGML v1.0//EN
CALSCALE:GREGORIAN
METHOD:PUBLISH
X-WR-CALNAME:Centre d&#039;Estudis Politècnics
X-ORIGINAL-URL:https://politecnics.barcelona/es/
X-WR-CALDESC:Eventos para Centre d&#039;Estudis Politècnics
REFRESH-INTERVAL;VALUE=DURATION:PT1H
X-Robots-Tag:noindex
X-PUBLISHED-TTL:PT1H
BEGIN:VTIMEZONE
TZID:Europe/Madrid
BEGIN:DAYLIGHT
TZOFFSETFROM:+0100
TZOFFSETTO:+0200
TZNAME:CEST
DTSTART:20250330T010000
END:DAYLIGHT
BEGIN:STANDARD
TZOFFSETFROM:+0200
TZOFFSETTO:+0100
TZNAME:CET
DTSTART:20251026T010000
END:STANDARD
END:VTIMEZONE
BEGIN:VEVENT
DTSTART;TZID=Europe/Madrid:20250403T090000
DTEND;TZID=Europe/Madrid:20250403T120000
DTSTAMP:20260421T193013
CREATED:20250403T160146Z
LAST-MODIFIED:20250403T160146Z
UID:11199-1743670800-1743681600@politecnics.barcelona
SUMMARY:Visita a la Ferretería COFAC de Sant Andreu
DESCRIPTION:Visita Ferretería COFAC Sant Andreu\nUbicación\nPaseo Fabra i Puig\, 192 \nGrupos\nACOM1A \nObjetivo\nConocer las características de un establecimiento especializado como una ferretería\, identificar cómo se organiza la clasificación y almacenamiento de los productos\, y entender las habilidades necesarias para atender correctamente a los clientes en el comercio de proximidad. \nHaremos\nRealizaremos una visita guiada a la ferretería COFAC\, donde recibiremos una explicación sobre el funcionamiento general de este tipo de comercio\, sus departamentos y los más de 10.000 artículos que ofrecen. Observaremos cómo se organiza el almacenamiento y la clasificación de productos\, la recepción de materiales\, la lectura de códigos de barras\, la informatización de los pedidos y la cadena de distribución. También conoceremos el concepto de cooperativa y sus características empresariales. Por último\, haremos un descubrimiento del entorno comercial del barrio de Sant Andreu.    \nEnlaces\nhttps://ferreteriabarcelona.com/passeig-fabra-i-puig \nOtras consideraciones\nDespués de la visita haremos un descubrimiento de los comercios de Sant Andreu.
URL:https://politecnics.barcelona/es/agenda/visita-a-la-ferreteria-cofac-de-sant-andreu/
LOCATION:Passeig Fabra i Puig\, 192
CATEGORIES:Eventos
ATTACH;FMTTYPE=image/png:https://politecnics.barcelona/wp-content/uploads/ChatGPT-Image-3-abr-2025-18_00_31-2.png
ORGANIZER;CN="Centre d'Estudis Polit%C3%A8cnics":MAILTO:comunicacio@politecnics.barcelona
END:VEVENT
END:VCALENDAR