BEGIN:VCALENDAR
VERSION:2.0
PRODID:-//Centre d&#039;Estudis Politècnics - ECPv6.3.3.1//NONSGML v1.0//EN
CALSCALE:GREGORIAN
METHOD:PUBLISH
X-WR-CALNAME:Centre d&#039;Estudis Politècnics
X-ORIGINAL-URL:https://politecnics.barcelona/es/
X-WR-CALDESC:Eventos para Centre d&#039;Estudis Politècnics
REFRESH-INTERVAL;VALUE=DURATION:PT1H
X-Robots-Tag:noindex
X-PUBLISHED-TTL:PT1H
BEGIN:VTIMEZONE
TZID:Europe/Madrid
BEGIN:DAYLIGHT
TZOFFSETFROM:+0100
TZOFFSETTO:+0200
TZNAME:CEST
DTSTART:20240331T010000
END:DAYLIGHT
BEGIN:STANDARD
TZOFFSETFROM:+0200
TZOFFSETTO:+0100
TZNAME:CET
DTSTART:20241027T010000
END:STANDARD
END:VTIMEZONE
BEGIN:VEVENT
DTSTART;TZID=Europe/Madrid:20241018T151000
DTEND;TZID=Europe/Madrid:20241018T180000
DTSTAMP:20260424T120709
CREATED:20241006T174635Z
LAST-MODIFIED:20241006T174738Z
UID:9793-1729264200-1729274400@politecnics.barcelona
SUMMARY:Visita a la feria Mercado de Mercados (MARP2)
DESCRIPTION:Visita a la feria Mercado de Mercados\nUbicación\n  Plaza Cataluña   \nGrupos\n  MARP2A\, MARP2B\, MARP2C   \nObjetivo\n  Conocer y analizar los elementos de una feria y analizar su comunicación externa.   \nHaremos\n  Participar en la feria y analizar sus elementos y su comunicación.   \nEnlaces\nhttps://www.barcelona.cat/mercatdemercats/ca \nOtras consideraciones
URL:https://politecnics.barcelona/es/agenda/visita-a-la-feria-mercado-de-mercados-marp2/
LOCATION:Plaça Catalunya
CATEGORIES:Eventos
ATTACH;FMTTYPE=image/jpeg:https://politecnics.barcelona/wp-content/uploads/Mercat-de-Mercat.jpg
ORGANIZER;CN="Centre d'Estudis Polit%C3%A8cnics":MAILTO:comunicacio@politecnics.barcelona
END:VEVENT
END:VCALENDAR