BEGIN:VCALENDAR
VERSION:2.0
PRODID:-//Centre d&#039;Estudis Politècnics - ECPv6.3.3.1//NONSGML v1.0//EN
CALSCALE:GREGORIAN
METHOD:PUBLISH
X-WR-CALNAME:Centre d&#039;Estudis Politècnics
X-ORIGINAL-URL:https://politecnics.barcelona/es/
X-WR-CALDESC:Eventos para Centre d&#039;Estudis Politècnics
REFRESH-INTERVAL;VALUE=DURATION:PT1H
X-Robots-Tag:noindex
X-PUBLISHED-TTL:PT1H
BEGIN:VTIMEZONE
TZID:Europe/Madrid
BEGIN:DAYLIGHT
TZOFFSETFROM:+0100
TZOFFSETTO:+0200
TZNAME:CEST
DTSTART:20240331T010000
END:DAYLIGHT
BEGIN:STANDARD
TZOFFSETFROM:+0200
TZOFFSETTO:+0100
TZNAME:CET
DTSTART:20241027T010000
END:STANDARD
END:VTIMEZONE
BEGIN:VEVENT
DTSTART;TZID=Europe/Madrid:20241210T123000
DTEND;TZID=Europe/Madrid:20241210T133000
DTSTAMP:20260426T043241
CREATED:20241205T134125Z
LAST-MODIFIED:20241205T134227Z
UID:10199-1733833800-1733837400@politecnics.barcelona
SUMMARY:Aprendemos finanzas jugando con PlayPension de la Fundación Mapfre
DESCRIPTION:Aprendemos finanzas jugando con PlayPension de la Fundación Mapfre\nUbicación\nAula 1.5 \nGrupos\nGAD1A \nObjetivo\nTrabajar los diferentes módulos mediante un juego online en el que el alumnado simula un plan de inversiones y refuerza conceptos básicos del mundo financiero. \nHaremos\nUn juego de mesa en el que\, por equipos\, el alumnado simula una inversión. El equipo ganador será aquél que obtenga la mayor rentabilidad.  \nEnlaces\nOtras consideraciones\nSe hizo un primer intento de una actividad similar\, pero en medio del desarrollo tuvo que anularse porque sonó una alarma de emergencia climática en todos los móviles\, a causa de la DANA. Se acordó reanudarla\, y ésta es la fecha programada para la segunda actividad.
URL:https://politecnics.barcelona/es/agenda/aprendemos-finanzas-jugando-con-playpension-de-la-fundacion-mapfre/
LOCATION:Politècnics ( Urquinaona\, aula pròpia)
CATEGORIES:Eventos
ATTACH;FMTTYPE=image/webp:https://politecnics.barcelona/wp-content/uploads/DALL·E-2024-12-05-14.40.17-Un-aula-moderna-con-estudiantes-participando-en-un-juego-de-mesa-financiero-con-fichas-dados-y-tarjetas-sobre-una-gran-mesa.-Los-estudiantes-trabaja.webp
ORGANIZER;CN="Centre d'Estudis Polit%C3%A8cnics":MAILTO:comunicacio@politecnics.barcelona
END:VEVENT
END:VCALENDAR