BEGIN:VCALENDAR
VERSION:2.0
PRODID:-//Centre d&#039;Estudis Politècnics - ECPv6.3.3.1//NONSGML v1.0//EN
CALSCALE:GREGORIAN
METHOD:PUBLISH
X-WR-CALNAME:Centre d&#039;Estudis Politècnics
X-ORIGINAL-URL:https://politecnics.barcelona/es/
X-WR-CALDESC:Eventos para Centre d&#039;Estudis Politècnics
REFRESH-INTERVAL;VALUE=DURATION:PT1H
X-Robots-Tag:noindex
X-PUBLISHED-TTL:PT1H
BEGIN:VTIMEZONE
TZID:Europe/Madrid
BEGIN:DAYLIGHT
TZOFFSETFROM:+0100
TZOFFSETTO:+0200
TZNAME:CEST
DTSTART:20260329T010000
END:DAYLIGHT
BEGIN:STANDARD
TZOFFSETFROM:+0200
TZOFFSETTO:+0100
TZNAME:CET
DTSTART:20261025T010000
END:STANDARD
END:VTIMEZONE
BEGIN:VEVENT
DTSTART;TZID=Europe/Madrid:20260225T100000
DTEND;TZID=Europe/Madrid:20260225T113000
DTSTAMP:20260421T083450
CREATED:20260302T142432Z
LAST-MODIFIED:20260302T142432Z
UID:13078-1772013600-1772019000@politecnics.barcelona
SUMMARY:Seminario · La estrategia de comunicación externa y en redes de Brico Depôt
DESCRIPTION:Seminario · La estrategia de comunicación externa y en redes de Brico Depôt\nUbicación\nAula 31 · Santa Anna\, 28 · Centro de Estudios Politécnicos \nGrupos\n1º de Marketing y Publicidad (grupos A\, B y C) \nObjetivo\nConocer cómo trabaja Brico Depôt su estrategia de comunicación externa \, de la mano de Priscila De Carvalho \, responsable del departamento. \nHaremos\nRecibimos un seminario especializado enfocado a detectar los puntos clave de la estrategia de comunicación externa de la empresa \, con especial énfasis en: \n\n\nLas acciones en redes sociales . \n\n\nLa coherencia entre marca\, mensaje y público objetivo . \n\n\nLa planificación y ejecución de campañas digitales. \n\n\nEl alumnado dispondrá de información de primera mano para orientar sus propuestas comunicativas dentro del proyecto que se inicia el 3 de marzo \, conectando aula y empresa real. \nEnlaces\nOtras consideraciones
URL:https://politecnics.barcelona/es/agenda/seminario-%c2%b7-la-estrategia-de-comunicacion-externa-y-en-redes-de-brico-depot/
LOCATION:Aula 31\, Sta Anna 28
CATEGORIES:Eventos
ORGANIZER;CN="Centre d'Estudis Polit%C3%A8cnics":MAILTO:comunicacio@politecnics.barcelona
END:VEVENT
END:VCALENDAR